BEGIN:VCALENDAR
VERSION:2.0
PRODID:-//ChamberMaster//Event Calendar 2.0//EN
METHOD:PUBLISH
X-PUBLISHED-TTL:P3D
REFRESH-INTERVAL:P3D
CALSCALE:GREGORIAN
BEGIN:VEVENT
DTSTART:20190720T000000Z
DTEND:20190720T010000Z
X-MICROSOFT-CDO-ALLDAYEVENT:FALSE
SUMMARY:Win a Harley! Drawing July 19 during Business After Hours! Click Here for Details!
DESCRIPTION:Win a Beautiful Harley Davidson Motorcycle! Drawing will be held during Business After Hours at Sammy C's in Gallup! Buy your tickets now before they are sold out! There will only be a limited amount of tickets sold!
X-ALT-DESC;FMTTYPE=text/html:Win a Beautiful Harley Davidson Motorcycle! Drawing will be held during Business After Hours at Sammy C&#39\;s in Gallup! Buy your tickets now before they are sold out! There will only be a limited amount of tickets sold!
LOCATION:Sammy C's Gallup\, NM
UID:e.744.2304
SEQUENCE:3
DTSTAMP:20260422T003915Z
URL:https://business.thegallupchamber.com/events/details/win-a-harley-drawing-july-19-during-business-after-hours-click-here-for-details-2304
END:VEVENT

END:VCALENDAR
