BEGIN:VCALENDAR
VERSION:2.0
PRODID:-//ChamberMaster//Event Calendar 2.0//EN
METHOD:PUBLISH
X-PUBLISHED-TTL:P3D
REFRESH-INTERVAL:P3D
CALSCALE:GREGORIAN
BEGIN:VEVENT
DTSTART:20170603T150000Z
DTEND:20170603T220000Z
X-MICROSOFT-CDO-ALLDAYEVENT:FALSE
SUMMARY:Adult Watercolor Painting Workshop
DESCRIPTION:Learn how to evoke beautiful images in watercolor in a day-long workshop presented by master of the craft\, artist Tine Hayes.
X-ALT-DESC;FMTTYPE=text/html:<span style="font-family:georgia\,times new roman\,bitstream charter\,times\,serif\; font-size:16px">Learn&nbsp\;how to&nbsp\;evoke beautiful images in watercolor in a day-long workshop presented by master of the craft\, artist Tine Hayes.&nbsp\;</span>
LOCATION:ART123 Gallery in downtown Gallup
UID:e.744.2064
SEQUENCE:3
DTSTAMP:20260423T163357Z
URL:https://business.thegallupchamber.com/events/details/watercolor-painting-workshop-2064
END:VEVENT

END:VCALENDAR
