BEGIN:VCALENDAR
VERSION:2.0
PRODID:-//ChamberMaster//Event Calendar 2.0//EN
METHOD:PUBLISH
X-PUBLISHED-TTL:P3D
REFRESH-INTERVAL:P3D
CALSCALE:GREGORIAN
BEGIN:VEVENT
DTSTART;VALUE=DATE:20160530
DTEND;VALUE=DATE:20160531
TRANSP:TRANSPARENT
X-MICROSOFT-CDO-ALLDAYEVENT:TRUE
SUMMARY:VFW Memorial Day Parade and Ceremony
DESCRIPTION:You can pick up a parade entry form at the Gallup McKinley County Chamber of Commerce
X-ALT-DESC;FMTTYPE=text/html:You can pick up a parade entry form at the Gallup McKinley County Chamber of Commerce
LOCATION:Courthouse Square
UID:e.744.1679
SEQUENCE:3
DTSTAMP:20260421T140736Z
URL:https://business.thegallupchamber.com/events/details/vfw-memorial-day-parade-and-ceremony-05-30-2016-1679
END:VEVENT

END:VCALENDAR
