BEGIN:VCALENDAR
VERSION:2.0
PRODID:-//ChamberMaster//Event Calendar 2.0//EN
METHOD:PUBLISH
X-PUBLISHED-TTL:P3D
REFRESH-INTERVAL:P3D
CALSCALE:GREGORIAN
BEGIN:VEVENT
DTSTART;VALUE=DATE:20150525
DTEND;VALUE=DATE:20150526
TRANSP:TRANSPARENT
X-MICROSOFT-CDO-ALLDAYEVENT:TRUE
SUMMARY:VFW Memorial Day Parade and Ceremony
DESCRIPTION:You can pick up a parade entry form at the Gallup McKinley County Chamber of Commerce\,\n\nClick Here To Download Application
X-ALT-DESC;FMTTYPE=text/html:<div>You can pick up a parade entry form at the Gallup McKinley County Chamber of Commerce\,<br />\n<a href="http://cloud.chambermaster.com/userfiles/UserFiles/chambers/744/File/2015MemorialParadeApplication2.pdf">Click Here To Download Application</a></div>\n
LOCATION:Courthouse Square
UID:e.744.1261
SEQUENCE:3
DTSTAMP:20260422T112418Z
URL:https://business.thegallupchamber.com/events/details/vfw-memorial-day-parade-and-ceremony-05-25-2015-1261
END:VEVENT

END:VCALENDAR
