BEGIN:VCALENDAR
VERSION:2.0
PRODID:-//ChamberMaster//Event Calendar 2.0//EN
METHOD:PUBLISH
X-PUBLISHED-TTL:P3D
REFRESH-INTERVAL:P3D
CALSCALE:GREGORIAN
BEGIN:VEVENT
DTSTART:20170311T150000Z
DTEND:20170311T210000Z
X-MICROSOFT-CDO-ALLDAYEVENT:FALSE
SUMMARY:TRAUMA
DESCRIPTION:A Foum Focusing on Trauma and its Psychological Effects
X-ALT-DESC;FMTTYPE=text/html:A Foum&nbsp\;Focusing on Trauma and its Psychological Effects
LOCATION:Rehoboth McKinley Christian Hospital 3rd Floor Solarium 1901 Red Rock Drive Gallup\, NM 8701
UID:e.744.2056
SEQUENCE:3
DTSTAMP:20260423T211315Z
URL:https://business.thegallupchamber.com/events/details/trauma-2056
END:VEVENT

END:VCALENDAR
