BEGIN:VCALENDAR
VERSION:2.0
PRODID:-//ChamberMaster//Event Calendar 2.0//EN
METHOD:PUBLISH
X-PUBLISHED-TTL:P3D
REFRESH-INTERVAL:P3D
CALSCALE:GREGORIAN
BEGIN:VEVENT
DTSTART:20151018T000000Z
DTEND:20151018T040000Z
X-MICROSOFT-CDO-ALLDAYEVENT:FALSE
SUMMARY:The Great Gatsby Bow Meow Gala
DESCRIPTION:Gallup-McKinley Count Humane Society's Great Gatsby Bow Meow Gala\n\nAll proceeds go to help to save the lives of animals!\n\nTable Sponsors\n\n\n\nPlatinum- $1500 (10 Admission Tickets) \n\n-1 Raffle Ticket\n\n-Advertisement (Full Page Ad In Program\, Name Displayed On Table)\n\n-Fine China\, Stemware And Silver\n\n-1st Served For Dinner\n\n-Private Server\, A Bottle Of Champagne \n\n\n\nGold- $1000 (8 Admission Tickets)\n\n-1 Raffle Ticket\n\n-Advertisement (Half Page Ad In Program\, Name Displayed On Table)\n\n-2nd Served For Dinner \n\n\n\nSilver- $750 (8 Admission Tickets)\n\n-1 Raffle Ticket\n\n-Advertisement (Quarter Page Ad In Program\, Name Displayed On Table)\n\n-3rd Served For Dinner \n\nBronze- $500 (8 Admission Tickets)\n\n-1 Raffle Ticket
X-ALT-DESC;FMTTYPE=text/html:Gallup-McKinley Count Humane Society&#39\;s Great Gatsby Bow Meow Gala<br />\nAll proceeds go to help to save the lives of animals!<br />\n<strong>Table Sponsors</strong><br />\n<br />\n<strong>Platinum-</strong> $1500 (10 Admission Tickets)&nbsp\;<br />\n-1 Raffle Ticket<br />\n-Advertisement (Full Page Ad In Program\, Name Displayed On Table)<br />\n-Fine China\, Stemware And Silver<br />\n-1st Served For Dinner<br />\n-Private Server\, A Bottle Of Champagne&nbsp\;<br />\n<br />\n<strong>Gold-</strong> $1000 (8 Admission Tickets)<br />\n-1 Raffle Ticket<br />\n-Advertisement (Half Page Ad In Program\, Name Displayed On Table)<br />\n-2nd Served For Dinner&nbsp\;<br />\n<br />\n<strong>Silver-</strong> $750&nbsp\;(8 Admission Tickets)<br />\n-1 Raffle Ticket<br />\n-Advertisement (Quarter Page Ad In Program\, Name Displayed On Table)<br />\n-3rd Served For Dinner&nbsp\;<br />\n<strong>Bronze-</strong> $500&nbsp\;(8 Admission Tickets)<br />\n-1 Raffle Ticket<br />\n<br />\n<br />\n<br />\n&nbsp\;
LOCATION:Red Rock State Park Auditorium
UID:e.744.1307
SEQUENCE:3
DTSTAMP:20260424T230841Z
URL:https://business.thegallupchamber.com/events/details/the-great-gatsby-bow-meow-gala-10-17-2015-1307
END:VEVENT

END:VCALENDAR
