BEGIN:VCALENDAR
VERSION:2.0
PRODID:-//ChamberMaster//Event Calendar 2.0//EN
METHOD:PUBLISH
X-PUBLISHED-TTL:P3D
REFRESH-INTERVAL:P3D
CALSCALE:GREGORIAN
BEGIN:VEVENT
DTSTART:20190528T010000Z
DTEND:20190903T020000Z
X-MICROSOFT-CDO-ALLDAYEVENT:FALSE
SUMMARY:Summer Nightly Indian Dances
DESCRIPTION:The Summer Nightly Indian Dances have been happening in the Gallup area for 24 years. We are excited to be in our new facility at the "Gallup Courthouse Square". Visitors to Gallup can take the opportunity to visit and learn from the many different dance groups.
X-ALT-DESC;FMTTYPE=text/html:<div>The Summer Nightly Indian Dances have been happening in the Gallup area for 24 years. We are excited to be in our new facility at the &quot\;Gallup Courthouse Square&quot\;. Visitors to Gallup can take the opportunity to visit and learn from the many different dance groups.</div>\n
LOCATION:The Courthouse Square Located on Aztec between 2nd St. and 3rd St.
UID:e.744.1657
SEQUENCE:3
DTSTAMP:20260424T163525Z
URL:https://business.thegallupchamber.com/events/details/summer-nightly-indian-dances-05-27-2019-1657
END:VEVENT

END:VCALENDAR
