BEGIN:VCALENDAR
VERSION:2.0
PRODID:-//ChamberMaster//Event Calendar 2.0//EN
METHOD:PUBLISH
X-PUBLISHED-TTL:P3D
REFRESH-INTERVAL:P3D
CALSCALE:GREGORIAN
BEGIN:VEVENT
DTSTART:20210918T190000Z
DTEND:20210918T210000Z
X-MICROSOFT-CDO-ALLDAYEVENT:FALSE
SUMMARY:Sports Fans guide to Route 66 book signing event
DESCRIPTION:Meet author Ron Clements as he discusses his book (featuring Sammy C's) and signs copies.
X-ALT-DESC;FMTTYPE=text/html:Meet author Ron Clements as he discusses his book (featuring Sammy C&#39\;s) and signs copies.
LOCATION:Sammy C's Rock'n Sports Pub and Grille\, 107 W Coal\, Gallup
UID:e.744.3728
SEQUENCE:3
DTSTAMP:20260421T101320Z
URL:https://business.thegallupchamber.com/events/details/sports-fans-guide-to-route-66-book-signing-event-3728
END:VEVENT

END:VCALENDAR
