BEGIN:VCALENDAR
VERSION:2.0
PRODID:-//ChamberMaster//Event Calendar 2.0//EN
METHOD:PUBLISH
X-PUBLISHED-TTL:P3D
REFRESH-INTERVAL:P3D
CALSCALE:GREGORIAN
BEGIN:VEVENT
DTSTART:20181225T010000Z
DTEND:20181225T080000Z
X-MICROSOFT-CDO-ALLDAYEVENT:FALSE
SUMMARY:Sky City Cultural Center & Haak'u Museum presents Christmas Eve Luminaria Lighting
DESCRIPTION:Native Dance Performances : 7pm - 11pm\n\nYaak'u Cafe Hours: 6pm - 10pm\n\nGift Shop Hours: 9am - 10pm \n\nHaak'u Museum Hours: 6pm - 12am\n\nShuttle Service to the "San esteban Del Rey Mission Church."\n\nshortly after midnight and return from the mesa at 1am. (by donation)
X-ALT-DESC;FMTTYPE=text/html:Native Dance Performances : 7pm - 11pm<br />\nYaak&#39\;u Cafe Hours: 6pm - 10pm<br />\nGift Shop Hours: 9am - 10pm&nbsp\;<br />\nHaak&#39\;u Museum Hours: 6pm - 12am<br />\nShuttle Service to the &quot\;San esteban Del Rey Mission Church.&quot\;<br />\nshortly after midnight and return from the mesa at 1am. (by donation)
LOCATION:I-40 Exit 102 South Acoma\, NM
UID:e.744.2272
SEQUENCE:3
DTSTAMP:20260422T103318Z
URL:https://business.thegallupchamber.com/events/details/sky-city-cultural-center-haak-u-museum-presents-christmas-eve-luminaria-lighting-2272
END:VEVENT

END:VCALENDAR
