BEGIN:VCALENDAR
VERSION:2.0
PRODID:-//ChamberMaster//Event Calendar 2.0//EN
METHOD:PUBLISH
X-PUBLISHED-TTL:P3D
REFRESH-INTERVAL:P3D
CALSCALE:GREGORIAN
BEGIN:VEVENT
DTSTART;VALUE=DATE:20151120
DTEND;VALUE=DATE:20151121
TRANSP:TRANSPARENT
X-MICROSOFT-CDO-ALLDAYEVENT:TRUE
SUMMARY:RMCHCS Relay for Life
DESCRIPTION:RMCHCS Relay For Life\n\nRMCH and Relay for Life are hosting a reception this Friday\, November 20th\, at 2:30 pm in the RMCH solarium. We are looking for enthusiastic and motivated people to help revitalize Relay for Life! We will provide an update on Gallup's Relay For Life and show ways you can help raise money for cancer research and can form teams to finish the fight against cancer. We need your fresh ideas and your support!
X-ALT-DESC;FMTTYPE=text/html:RMCHCS Relay For Life<br />\nRMCH and Relay for Life are hosting a reception this Friday\, November 20th\, at 2:30 pm in the RMCH solarium. We are looking for enthusiastic and motivated people to help revitalize Relay&nbsp\;for Life! We will provide an update on Gallup&#39\;s Relay For Life and show ways you can help raise money for cancer research and can form teams to finish the fight against cancer. We need your fresh ideas and your support!
LOCATION:RMCH solarium
UID:e.744.1313
SEQUENCE:3
DTSTAMP:20260424T213646Z
URL:https://business.thegallupchamber.com/events/details/rmchcs-relay-for-life-11-20-2015-1313
END:VEVENT

END:VCALENDAR
