BEGIN:VCALENDAR
VERSION:2.0
PRODID:-//ChamberMaster//Event Calendar 2.0//EN
METHOD:PUBLISH
X-PUBLISHED-TTL:P3D
REFRESH-INTERVAL:P3D
CALSCALE:GREGORIAN
BEGIN:VEVENT
DTSTART;VALUE=DATE:20150911
DTEND;VALUE=DATE:20150913
TRANSP:TRANSPARENT
X-MICROSOFT-CDO-ALLDAYEVENT:TRUE
SUMMARY:RMCHCS Charity I
DESCRIPTION:RMCHCS Charity Invitational\n\n\n\nSeptember 11 -12\n\n\n\nGolf Tournament September 11\, 8am  Fox Run Golf Course\n\n\n\nTrap Shoot Competition September 12\, 9am\, Gallup Shooting Range\n\n\n\nGala Event\, September 12\, Zen Steak and Sushi
X-ALT-DESC;FMTTYPE=text/html:<div>\n<div style="margin: 0in 0in 0pt">RMCHCS Charity Invitational<br />\n<br />\nSeptember 11 -12<br />\n<br />\nGolf Tournament&mdash\;September 11\, 8am&nbsp\; Fox Run Golf Course<br />\n<br />\nTrap Shoot Competition&mdash\;September 12\, 9am\, Gallup Shooting Range<br />\n<br />\nGala Event\, September 12\, Zen Steak and Sushi</div>\n\n<div style="margin: 0in 0in 0pt">&nbsp\;</div>\n</div>\n
LOCATION:
UID:e.744.1302
SEQUENCE:3
DTSTAMP:20260422T054551Z
URL:https://business.thegallupchamber.com/events/details/rmchcs-charity-i-09-11-2015-1302
END:VEVENT

END:VCALENDAR
