BEGIN:VCALENDAR
VERSION:2.0
PRODID:-//ChamberMaster//Event Calendar 2.0//EN
METHOD:PUBLISH
X-PUBLISHED-TTL:P3D
REFRESH-INTERVAL:P3D
CALSCALE:GREGORIAN
BEGIN:VEVENT
DTSTART:20220429T180000Z
DTEND:20220429T220000Z
X-MICROSOFT-CDO-ALLDAYEVENT:FALSE
SUMMARY:Rio West Mall - 7th Annual Community Spring Job Fair
DESCRIPTION:Rio West Mall - 7th Annual Community Spring Job Fair\n\n\n\nOpen to Everyone\n\n\n\nIf your business would like to register and reserve a table\, contact Hannah or Anita at 505-722-7281 (Free - tables and chairs will be provided)
X-ALT-DESC;FMTTYPE=text/html:<font face="verdana"><span style="font-size: 18px\;">Rio West Mall - 7th Annual Community Spring Job Fair<br />\n<br />\nOpen to Everyone<br />\n<br />\nIf your business would like to register and reserve a table\, contact Hannah or Anita at 505-722-7281 (Free - tables and chairs will be provided)</span></font>
LOCATION:Rio West Mall - Center Court
UID:e.744.3757
SEQUENCE:3
DTSTAMP:20260421T062355Z
URL:https://business.thegallupchamber.com/events/details/rio-west-mall-7th-annual-community-spring-job-fair-3757
END:VEVENT

END:VCALENDAR
