BEGIN:VCALENDAR
VERSION:2.0
PRODID:-//ChamberMaster//Event Calendar 2.0//EN
METHOD:PUBLISH
X-PUBLISHED-TTL:P3D
REFRESH-INTERVAL:P3D
CALSCALE:GREGORIAN
BEGIN:VEVENT
DTSTART:20220808T160000Z
DTEND:20220808T200000Z
X-MICROSOFT-CDO-ALLDAYEVENT:FALSE
SUMMARY:Recovery Housing Community Discussion
DESCRIPTION:You are invited to a community discussion on recovery housing.\n\n\n\n \n\nSanta Fe Recovery Center and Four Corners Detox Recovery Center in partnership with JBS International and the Fletcher Group welcome you to a community discussion on recovery housing in Gallup/McKinley County.\n\n \n\nThis will be a meeting with community stakeholders to discuss and plan next steps in enhancing access to recovery housing in Gallup\, New Mexico. This meeting will include subject matter experts to present an overview of recovery housing for our area\, explore our resources and funding opportunities\, and discuss possible next steps regarding work groups and public awareness on multiple levels around recovery housing and substance use. We are supporting the start of the discussion but need the community's help with continuing the momentum and actionable items.\n\n \n\nThis is an in-person event with lunch provided. For those unable to attend in-person\, you will be given a Zoom link for virtual attendance after your registration.
X-ALT-DESC;FMTTYPE=text/html:<div style="font-family: Calibri\, Arial\, Helvetica\, sans-serif\; font-size: 12pt\; color: rgb(0\, 0\, 0)\;"><span style="font-size:22px\;"><span style="font-family: &quot\;Century Gothic&quot\;\, sans-serif\;">You are invited to a community discussion on recovery housing.</span></span></div>\n\n<div style="font-family: Calibri\, Arial\, Helvetica\, sans-serif\; font-size: 12pt\; color: rgb(0\, 0\, 0)\;">\n<div style="font-size: 12pt\; margin: 0px\;">\n<div style="font-size: 11pt\; font-family: &quot\;Century Gothic&quot\;\, sans-serif\; margin: 0px\;">&nbsp\;</div>\n\n<div style="font-size: 11pt\; font-family: &quot\;Century Gothic&quot\;\, sans-serif\; margin: 0px\; color: rgb(32\, 31\, 30)\;">Santa Fe Recovery Center and Four Corners Detox Recovery Center in partnership with JBS International and the Fletcher Group welcome you to a community discussion on recovery housing in Gallup/McKinley County.</div>\n\n<div style="font-size: 11pt\; font-family: &quot\;Century Gothic&quot\;\, sans-serif\; margin: 0px\; color: rgb(32\, 31\, 30)\;">&nbsp\;</div>\n\n<div style="font-size: 11pt\; font-family: &quot\;Century Gothic&quot\;\, sans-serif\; margin: 0px\; color: rgb(32\, 31\, 30)\;">This will be a meeting with community stakeholders to discuss and plan next steps in enhancing access to recovery housing in Gallup\, New Mexico. This meeting will include subject matter experts to present an overview of recovery housing for our area\, explore our resources and funding opportunities\, and discuss possible next steps regarding work groups and public awareness on multiple levels around recovery housing and substance use. We are supporting the start of the discussion but need the community&#39\;s help with continuing the momentum and actionable items.</div>\n\n<div style="font-size: 11pt\; font-family: &quot\;Century Gothic&quot\;\, sans-serif\; margin: 0px\; color: rgb(32\, 31\, 30)\;">&nbsp\;</div>\n\n<div style="font-size: 11pt\; font-family: &quot\;Century Gothic&quot\;\, sans-serif\; margin: 0px\; color: rgb(32\, 31\, 30)\;"><b>This is an in-person event with lunch provided. For those unable to attend in-person\, you will be given a Zoom link for virtual attendance after your registration.</b></div>\n</div>\n</div>\n\n<div style="font-family: Calibri\, Arial\, Helvetica\, sans-serif\; font-size: 12pt\; color: rgb(0\, 0\, 0)\;">&nbsp\;</div>\n
LOCATION:McKinley County Courthouse 207 W. Hill Gallup\, NM 2nd Floor Conference Room
UID:e.744.3790
SEQUENCE:3
DTSTAMP:20260421T004151Z
URL:https://business.thegallupchamber.com/events/details/recovery-housing-community-discussion-3790
END:VEVENT

END:VCALENDAR
