BEGIN:VCALENDAR
VERSION:2.0
PRODID:-//ChamberMaster//Event Calendar 2.0//EN
METHOD:PUBLISH
X-PUBLISHED-TTL:P3D
REFRESH-INTERVAL:P3D
CALSCALE:GREGORIAN
BEGIN:VEVENT
DTSTART:20220916T210000Z
DTEND:20220923T180000Z
X-MICROSOFT-CDO-ALLDAYEVENT:FALSE
SUMMARY:Pre Chamber Banquet Raffle Ticket Sales
DESCRIPTION:Pre Banquet Raffle: $50 per Raffle Ticket for a chance to win one of these AMAZING items: \n\n	Lee Greenwood Autographed Guitar (provided by Sammy & Marie Chioda)\n	Traeger Smoker (provided by Bubany Lumber)\n	Carrier Performance High-Efficiency Furnace (Installed within 30 miles of Gallup) (provided by Horizon Enterprises) \n	UNM Lobo Women's Basketball Suite: Nov 12th (Suite includes 20 tickets & 5 parking passes) (provided by Dr. Lawrence Andrade)\n	UNM Lobo Men's Basketball Suite: Dec 10th (Suite includes 20 tickets & 5 parking passes) (provided by Dr. Lawrence Andrade\n\nRaffle Tickets can still be purchased at the Banquet\n\nNeed not be present to win!
X-ALT-DESC;FMTTYPE=text/html:<span style="font-size:24px\;"><span style="color:#FF0000\;"><span style="font-family:comic sans ms\;">Pre Banquet Raffle: $50 per Raffle Ticket for a chance to win one of these AMAZING items:&nbsp\;</span></span></span>\n<ul>\n	<li><span style="font-size:18px\;"><span style="font-family:comic sans ms\;"><strong>Lee Greenwood Autographed Guitar</strong> (provided by Sammy &amp\; Marie Chioda)</span></span></li>\n	<li><span style="font-size:18px\;"><span style="font-family:comic sans ms\;"><strong>Traeger Smoker</strong> (provided by Bubany Lumber)</span></span></li>\n	<li><span style="font-size:18px\;"><span style="font-family:comic sans ms\;"><strong>Carrier Performance High-Efficiency Furnace (Installed within 30 miles of Gallup)</strong>&nbsp\;(provided by Horizon Enterprises)&nbsp\;</span></span></li>\n	<li><span style="font-size:18px\;"><span style="font-family:comic sans ms\;"><strong>UNM Lobo Women&#39\;s Basketball Suite: Nov 12th</strong> (Suite includes 20 tickets &amp\; 5 parking passes) (provided by Dr. Lawrence Andrade)</span></span></li>\n	<li><span style="font-size:18px\;"><span style="font-family:comic sans ms\;"><strong>UNM Lobo Men&#39\;s Basketball Suite: Dec 10th</strong> (Suite includes 20 tickets &amp\; 5 parking passes) (provided by Dr. Lawrence Andrade</span></span></li>\n</ul>\n<span style="font-size:14px\;"><span style="font-family:comic sans ms\;">Raffle Tickets can still be purchased at the Banquet<br />\nNeed not be present to win!&nbsp\;</span></span>
LOCATION:Raffle Tickets are for the Gallup Chamber Annual Banquet on Saturday\, September 24th at Red Rock Park
UID:e.744.3793
SEQUENCE:3
DTSTAMP:20260420T233353Z
URL:https://business.thegallupchamber.com/events/details/pre-chamber-banquet-raffle-ticket-sales-3793
END:VEVENT

END:VCALENDAR
