BEGIN:VCALENDAR
VERSION:2.0
PRODID:-//ChamberMaster//Event Calendar 2.0//EN
METHOD:PUBLISH
X-PUBLISHED-TTL:P3D
REFRESH-INTERVAL:P3D
CALSCALE:GREGORIAN
BEGIN:VEVENT
DTSTART;VALUE=DATE:20211101
DTEND;VALUE=DATE:20220116
TRANSP:TRANSPARENT
X-MICROSOFT-CDO-ALLDAYEVENT:TRUE
SUMMARY:Open Enrollment with Gartner Insurance & BeWellNM
DESCRIPTION:Gartner Insurance and BeWellNM are working together during this Open Enrollment season to ensure that everyone who is under 65 and is not covered under their employer's Health Plan and who WANTS Health Insurance\, gets enrolled in a plan before Open Enrollment ends on January 15\, 2022. \n\nThe deadline to complete your new enrollment is fast approaching - Please contact Chris Gartner at Gartner Insurance to complete your enrollment today. \n\nChris Gartner: 505-863-2344/714 South Second Street\, Gallup NM
X-ALT-DESC;FMTTYPE=text/html:Gartner Insurance and BeWellNM are working together during this Open Enrollment season to ensure that everyone who is under 65 and is not covered under their employer&#39\;s Health Plan and who WANTS Health Insurance\, gets enrolled in a plan before Open Enrollment ends on January 15\, 2022.&nbsp\;<br />\nThe deadline to complete your new enrollment is fast approaching - Please contact Chris Gartner at Gartner Insurance to complete your enrollment today.&nbsp\;<br />\nChris Gartner: 505-863-2344/714 South Second Street\, Gallup NM
LOCATION:Gartner Insurance 714 South Second Street Gallup\, NM 87301
UID:e.744.3744
SEQUENCE:3
DTSTAMP:20260421T042042Z
URL:https://business.thegallupchamber.com/events/details/open-enrollment-with-gartner-insurance-bewellnm-3744
END:VEVENT

END:VCALENDAR
