BEGIN:VCALENDAR
VERSION:2.0
PRODID:-//ChamberMaster//Event Calendar 2.0//EN
METHOD:PUBLISH
X-PUBLISHED-TTL:P3D
REFRESH-INTERVAL:P3D
CALSCALE:GREGORIAN
BEGIN:VEVENT
DTSTART:20160306T000000Z
DTEND:20160306T060000Z
X-MICROSOFT-CDO-ALLDAYEVENT:FALSE
SUMMARY:NO EMPTY BOWLS
DESCRIPTION:To Benefit Gallup McKinley County Humane Society\n\n\n\nHelp fill their bowls by filling yours\n\n$25 for a bottomless bowl of soup and keep your bowl
X-ALT-DESC;FMTTYPE=text/html:To Benefit Gallup McKinley County Humane Society<br />\n<br />\nHelp fill their bowls by filling yours<br />\n$25 for a bottomless bowl of soup and keep your bowl
LOCATION:The BPOE-ELKS 1112 Susan Ave.
UID:e.744.1712
SEQUENCE:3
DTSTAMP:20260421T170728Z
URL:https://business.thegallupchamber.com/events/details/no-empty-bowls-03-05-2016-1712
END:VEVENT

END:VCALENDAR
