BEGIN:VCALENDAR
VERSION:2.0
PRODID:-//ChamberMaster//Event Calendar 2.0//EN
METHOD:PUBLISH
X-PUBLISHED-TTL:P3D
REFRESH-INTERVAL:P3D
CALSCALE:GREGORIAN
BEGIN:VEVENT
DTSTART:20160526T173000Z
DTEND:20160526T190000Z
X-MICROSOFT-CDO-ALLDAYEVENT:FALSE
SUMMARY:NMPRSA Luncheon & Expert Seminar on Customer Content Driven Marketing Strategy
DESCRIPTION:NMPRSA will host a luncheon on Thursday\, May 26\, beginning at 11:30 at Yanni?s with an expert seminar highlighting how online consumer behavior can and has been utilized by brands for customer-centered marketing experiences. The seminar will feature an AARP Regional Advisor and will discuss best practices\, ways to protect yourself from content marketing\, and incorporating a diverse audience into a marketing strategy.
X-ALT-DESC;FMTTYPE=text/html:NMPRSA will host a luncheon on Thursday\, May 26\, beginning at 11:30 at Yanni?s with an expert seminar highlighting how online consumer behavior can and has been utilized by brands for customer-centered marketing experiences. The seminar will feature an AARP Regional Advisor and will discuss best practices\, ways to protect yourself from content marketing\, and incorporating a diverse audience into a marketing strategy.
LOCATION:Yanni's Restaurant 3109 Central Ave NE Albuquerque\, NM 87106
UID:e.744.1730
SEQUENCE:3
DTSTAMP:20260421T140736Z
URL:https://business.thegallupchamber.com/events/details/nmprsa-luncheon-expert-seminar-on-customer-content-driven-marketing-strategy-05-26-2016-1730
END:VEVENT

END:VCALENDAR
