BEGIN:VCALENDAR
VERSION:2.0
PRODID:-//ChamberMaster//Event Calendar 2.0//EN
METHOD:PUBLISH
X-PUBLISHED-TTL:P3D
REFRESH-INTERVAL:P3D
CALSCALE:GREGORIAN
BEGIN:VEVENT
DTSTART:20130810T010000Z
DTEND:20130810T030000Z
X-MICROSOFT-CDO-ALLDAYEVENT:FALSE
SUMMARY:Native Film Series
DESCRIPTION:Family Night\n\nNative Film Series: Hover Board\, Directed and Written by Sydney Freeland\, Produced by Charlene Agabao\, Blackhorse Lowe.\n\n                              Horse You See\, Directed by Melissa Henry\, Produced by Alfredo Perez.\n\n                              Run Red Walk\, Directed by Melissa Henry\, Produced by Alfredo Perez.\n\n                              Opal\, Directed by Ramona Emerson\, Produced by Kelly Byars.\n\n                             A Return Home\, Directed by Ramona Emerson\, Produced by Kelly Byars.\n\n                             Together We Can\, Directed by Theo and Carol Bremer-Bennett\, Produced by\n\n                                                          CARE 66.
X-ALT-DESC;FMTTYPE=text/html:Family Night<br />\nNative Film Series: H<strong>over Board\,</strong> Directed and Written by Sydney Freeland\, Produced by Charlene Agabao\, Blackhorse Lowe.<br />\n&nbsp\;&nbsp\;&nbsp\;&nbsp\;&nbsp\;&nbsp\;&nbsp\;&nbsp\;&nbsp\;&nbsp\;&nbsp\;&nbsp\;&nbsp\;&nbsp\;&nbsp\;&nbsp\;&nbsp\;&nbsp\;&nbsp\;&nbsp\;&nbsp\;&nbsp\;&nbsp\;&nbsp\;&nbsp\;&nbsp\;&nbsp\;&nbsp\;&nbsp\; <strong>Horse You See\,</strong> Directed by Melissa Henry\, Produced by Alfredo Perez.<br />\n&nbsp\;&nbsp\;&nbsp\;&nbsp\;&nbsp\;&nbsp\;&nbsp\;&nbsp\;&nbsp\;&nbsp\;&nbsp\;&nbsp\;&nbsp\;&nbsp\;&nbsp\;&nbsp\;&nbsp\;&nbsp\;&nbsp\;&nbsp\;&nbsp\;&nbsp\;&nbsp\;&nbsp\;&nbsp\;&nbsp\;&nbsp\;&nbsp\;&nbsp\;<strong> Run Red Walk</strong>\, Directed by Melissa Henry\, Produced by Alfredo Perez.<br />\n&nbsp\;&nbsp\;&nbsp\;&nbsp\;&nbsp\;&nbsp\;&nbsp\;&nbsp\;&nbsp\;&nbsp\;&nbsp\;&nbsp\;&nbsp\;&nbsp\;&nbsp\;&nbsp\;&nbsp\;&nbsp\;&nbsp\;&nbsp\;&nbsp\;&nbsp\;&nbsp\;&nbsp\;&nbsp\;&nbsp\;&nbsp\;&nbsp\;&nbsp\; <strong>Opal\,</strong> Directed by Ramona Emerson\, Produced by Kelly Byars.<br />\n&nbsp\;&nbsp\;&nbsp\;&nbsp\;&nbsp\;&nbsp\;&nbsp\;&nbsp\;&nbsp\;&nbsp\;&nbsp\;&nbsp\;&nbsp\;&nbsp\;&nbsp\;&nbsp\;&nbsp\;&nbsp\;&nbsp\;&nbsp\;&nbsp\;&nbsp\;&nbsp\;&nbsp\;&nbsp\;&nbsp\;&nbsp\;&nbsp\;<strong> A Return Home</strong>\, Directed by Ramona Emerson\, Produced by Kelly Byars.<br />\n&nbsp\;&nbsp\;&nbsp\;&nbsp\;&nbsp\;&nbsp\;&nbsp\;&nbsp\;&nbsp\;&nbsp\;&nbsp\;&nbsp\;&nbsp\;&nbsp\;&nbsp\;&nbsp\;&nbsp\;&nbsp\;&nbsp\;&nbsp\;&nbsp\;&nbsp\;&nbsp\;&nbsp\;&nbsp\;&nbsp\;&nbsp\;&nbsp\; <strong>Together We Can</strong>\, Directed by Theo and Carol Bremer-Bennett\, Produced by<br />\n&nbsp\;&nbsp\;&nbsp\;&nbsp\;&nbsp\;&nbsp\;&nbsp\;&nbsp\;&nbsp\;&nbsp\;&nbsp\;&nbsp\;&nbsp\;&nbsp\;&nbsp\;&nbsp\;&nbsp\;&nbsp\;&nbsp\;&nbsp\;&nbsp\;&nbsp\;&nbsp\;&nbsp\;&nbsp\;&nbsp\;&nbsp\;&nbsp\;&nbsp\;&nbsp\;&nbsp\;&nbsp\;&nbsp\;&nbsp\;&nbsp\;&nbsp\;&nbsp\;&nbsp\;&nbsp\;&nbsp\;&nbsp\;&nbsp\;&nbsp\;&nbsp\;&nbsp\;&nbsp\;&nbsp\;&nbsp\;&nbsp\;&nbsp\;&nbsp\;&nbsp\;&nbsp\;&nbsp\;&nbsp\;&nbsp\;&nbsp\; CARE 66.
LOCATION:El Morro Theatre 207 W. Coal Avenue Gallup\, NM 87301
UID:e.744.1099
SEQUENCE:3
DTSTAMP:20260420T151335Z
URL:https://business.thegallupchamber.com/events/details/native-film-series-08-09-2013-1099
END:VEVENT

END:VCALENDAR
