BEGIN:VCALENDAR
VERSION:2.0
PRODID:-//ChamberMaster//Event Calendar 2.0//EN
METHOD:PUBLISH
X-PUBLISHED-TTL:P3D
REFRESH-INTERVAL:P3D
CALSCALE:GREGORIAN
BEGIN:VEVENT
DTSTART:20170526T000000Z
DTEND:20170526T030000Z
X-MICROSOFT-CDO-ALLDAYEVENT:FALSE
SUMMARY:May Wine & Painting @ ART123 Gallery
DESCRIPTION:Have a glass and take a class! Enjoy two complimentary glasses of vino while learning to mix colors and making a masterpiece to take home.  \n\n\n	Teacher: local master artist Tine Hayes\n	Cost: $35/person (all painting materials included)\n\nRegister at www.galluparts.org/wine-and-painting. Space is limited.
X-ALT-DESC;FMTTYPE=text/html:<div>Have a glass and take a class!&nbsp\;Enjoy two complimentary glasses of vino while learning to mix colors and making a masterpiece to take home. &nbsp\;</div>\n\n<ul>\n	<li>Teacher: local master artist&nbsp\;<a href="http://tinehayesart.com">Tine Hayes</a></li>\n	<li>Cost: $35/person (all painting materials included)</li>\n</ul>\nRegister at www.galluparts.org/wine-and-painting. Space is limited.&nbsp\;
LOCATION:ART123 Gallery in downtown Gallup (on the corner of Second Street and Coal Avenue)
UID:e.744.2025
SEQUENCE:3
DTSTAMP:20260423T183458Z
URL:https://business.thegallupchamber.com/events/details/may-wine-painting-art123-gallery-2025
END:VEVENT

END:VCALENDAR
