BEGIN:VCALENDAR
VERSION:2.0
PRODID:-//ChamberMaster//Event Calendar 2.0//EN
METHOD:PUBLISH
X-PUBLISHED-TTL:P3D
REFRESH-INTERVAL:P3D
CALSCALE:GREGORIAN
BEGIN:VEVENT
DTSTART:20190412T130000Z
DTEND:20190412T150000Z
X-MICROSOFT-CDO-ALLDAYEVENT:FALSE
SUMMARY:Low Cost Blood Screening
DESCRIPTION:RMCHCS is offering low-cost blood screening from 7am to 9 am\, beginnning Monday April 8 through April 20 (excluding Sunday April 14). The basic panel is only $25.\nEmployees of the City of Gallup\, McKinley County\, Bubany Lumber and Hardware\, Big Mike's Rental Sales and Service\, Four Corners Gas and Welding can get the basic Panel FREE\, courtesy of their employers.\n\nWalkins are welcome\, but appointments are encouraged. For complete informationon all the tests availabel or to make and appointment\, call 505-863-7325.\n\nDrink plenty of water (no caffeine) and fast for at least eight hours before your tests.\n\nWe accept cash\, checks\, VISA\, Master Card and Debit Cards!
X-ALT-DESC;FMTTYPE=text/html:<h2 style="font-style:italic\;">RMCHCS is offering low-cost blood screening from 7am to 9 am\, beginnning Monday April 8 through April 20 (excluding Sunday April 14). The basic panel is only $25.</h2>\n<big>Employees of the City of Gallup\, McKinley County\, Bubany Lumber and Hardware\, Big Mike&#39\;s Rental Sales and Service\, Four Corners Gas and Welding can get the basic Panel FREE\, courtesy of their employers.<br />\nWalkins are welcome\, but appointments are encouraged. For complete informationon all the tests availabel or to make and appointment\, call 505-863-7325.<br />\nDrink plenty of water (no caffeine) and fast for at least eight hours before your tests.<br />\n<span style="font-size:16px"><small><em><span class="marker">We accept cash\, checks\, VISA\, Master Card and Debit Cards!</span></em></small></span></big><br />\n&nbsp\;
LOCATION:RMCH Hospital Main Lobby 19901 Red Rock Drive Gallup\, NM 87301
UID:e.744.2291
SEQUENCE:3
DTSTAMP:20260422T050335Z
URL:https://business.thegallupchamber.com/events/details/low-cost-blood-screening-04-12-2019-2291
END:VEVENT

END:VCALENDAR
