BEGIN:VCALENDAR
VERSION:2.0
PRODID:-//ChamberMaster//Event Calendar 2.0//EN
METHOD:PUBLISH
X-PUBLISHED-TTL:P3D
REFRESH-INTERVAL:P3D
CALSCALE:GREGORIAN
BEGIN:VEVENT
DTSTART;VALUE=DATE:20220129
DTEND;VALUE=DATE:20220130
TRANSP:TRANSPARENT
X-MICROSOFT-CDO-ALLDAYEVENT:TRUE
SUMMARY:Living With Alzheimer's - Caregiver Seminar
DESCRIPTION:Date: Saturday\, January 29th\, 9am   4pm (Virtual).\n\nSchedule by content:\n\nEarly Stage Presentation: 9am - 11am\n\nMiddle Stage Presentation: 11:30am - 1:30pm\n\nLate Stage Presentation: 2pm - 4pm\n\nFree. For registration and information\, contact: nmprograms@alz.org or 505-266-4473.\n\nThis seminar is for all caregivers - when one of your loved ones is affected by dementia\, you are a caregiver. Whether your loved one lives with you or not\, whether you see them daily or they live in a different state and you see them once a year\, this seminar will give you valuable and helpful information.\n\nThere is so much fear and confusion that comes with a diagnosis of dementia. This seminar will lessen those fears and provide families with a way to map the future together with love and thoughtfulness. With this guidance and support\, families will be able to reduce stress and experience joy as the disease progresses. This seminar is very practical and gives you what you need to know\, what to plan for\, and what to do along the way.\n\nWe also have regularly scheduled classes that cover topics to educate the family\, the caregiver and the person with the disease. This calendar can be found at the following link to our Classes Page and can be used for downloading\, sharing or social media:\n\nClick here for Program Calendar\n\nAdditionally\, we are adding more support groups (here is a link to our most current Support Group listings:\n\nClick here for Support Groups List\n\nWe have groups that are specific to families at the Early Stage\, with loved ones in residential facilities\, children caring for parents\, wives of the person with the disease (coming soon will be a group for husbands!)\, LBGTQ+\, young adult caregivers\, grief and general caregiver support groups.\n\nCurrently because of the Omicron variant\, our support groups are virtual\, once this passes (and it will pass!) those groups that are listed as in person will return to in-person.\n\nCaregiving is tough\, we are here to help. Please reach out with questions or concerns. My contact information is below or call our 24 hour helpline 800-272-3900.\n\nThank you\,\n\nRon Eppes\n\nProgram Director\n\nAlzheimer's Association\, New Mexico Chapter\n\n505.404.9837\n\nrdeppes@alz.org
X-ALT-DESC;FMTTYPE=text/html:<p style="font-family: Helvetica\, arial\, sans-serif\; font-size: 16px\;"><span style="font-family: arial\, helvetica\, sans-serif\;"><strong>Date:&nbsp\;Saturday\, January 29th\, 9am &ndash\; 4pm (Virtual).</strong></span></p>\n\n<p style="font-family: Helvetica\, arial\, sans-serif\; font-size: 16px\;"><span style="font-family: arial\, helvetica\, sans-serif\;"><span style="text-decoration-line: underline\;"><span style="color: rgb(34\, 34\, 34)\;">Schedule by content:</span></span><br />\n<span style="color: rgb(34\, 34\, 34)\;">Early Stage Presentation: 9am - 11am</span><br />\n<span style="color: rgb(34\, 34\, 34)\;">Middle Stage Presentation: 11:30am - 1:30pm</span><br />\n<span style="color: rgb(34\, 34\, 34)\;">Late Stage Presentation: 2pm - 4pm</span></span></p>\n\n<p style="font-family: Helvetica\, arial\, sans-serif\; font-size: 16px\;"><span style="color: rgb(34\, 34\, 34)\; font-family: arial\, helvetica\, sans-serif\;">Free. For registration and information\, contact:&nbsp\;<a href="mailto:nmprograms@alz.org" style="color: rgb(17\, 85\, 204)\;" target="_blank">nmprograms@alz.org</a>&nbsp\;or 505-266-4473.</span></p>\n\n<p style="font-family: Helvetica\, arial\, sans-serif\; font-size: 16px\;"><span style="font-family: arial\, helvetica\, sans-serif\;"><span style="color: rgb(34\, 34\, 34)\;">This seminar is for all caregivers - when one of your loved ones is affected by dementia\, you are a caregiver. Whether your loved one lives with you or not\, whether you see them daily or they live in a different state and you see them once a year\, this seminar will give you valuable and helpful information.</span></span></p>\n\n<p style="font-family: Helvetica\, arial\, sans-serif\; font-size: 16px\;"><span style="color: rgb(34\, 34\, 34)\; font-family: arial\, helvetica\, sans-serif\;">There is so much fear and confusion that comes with a diagnosis of dementia. This seminar will lessen those fears and provide families with a way to map the future together with love and thoughtfulness. With this guidance and support\, families will be able to reduce stress and experience joy as the disease progresses. This seminar is very practical and gives you what you need to know\, what to plan for\, and what to do along the way.</span></p>\n\n<p style="font-family: Helvetica\, arial\, sans-serif\; font-size: 16px\;"><span style="font-family: arial\, helvetica\, sans-serif\;"><span style="color: rgb(34\, 34\, 34)\;">We also have regularly scheduled classes that cover topics to educate the family\, the caregiver and the person with the disease. This calendar can be found at the following link to our Classes Page and can be used for downloading\, sharing or social media:</span></span></p>\n\n<p style="font-family: Helvetica\, arial\, sans-serif\; font-size: 16px\;"><span style="font-family: arial\, helvetica\, sans-serif\;"><em><span style="color: rgb(34\, 34\, 34)\;"><a data-saferedirecturl="https://www.google.com/url?q=https://act.alz.org/site/R?i%3DQl1SsoWflvlkLwsTsaIAXXrkTaFRouE9NHKYSjl3ucqAhjoZbzsPgw&amp\;source=gmail&amp\;ust=1643132844697000&amp\;usg=AOvVaw3IvDVVLR0Z51uU2bsQ2c_V" href="https://act.alz.org/site/R?i=Ql1SsoWflvlkLwsTsaIAXXrkTaFRouE9NHKYSjl3ucqAhjoZbzsPgw" style="color: rgb(17\, 85\, 204)\;" target="_blank">Click here for Program Calendar</a></span></em></span></p>\n\n<p style="font-family: Helvetica\, arial\, sans-serif\; font-size: 16px\;"><span style="color: rgb(34\, 34\, 34)\; font-family: arial\, helvetica\, sans-serif\;">Additionally\, we are adding more support groups (here is a link to our most current Support Group listings:</span></p>\n\n<p style="font-family: Helvetica\, arial\, sans-serif\; font-size: 16px\;"><span style="font-family: arial\, helvetica\, sans-serif\;"><em><a data-saferedirecturl="https://www.google.com/url?q=https://act.alz.org/site/R?i%3D5b2dzVj-7kWt0El2aP62tdmbLQk_aQhQLg1pCtw11HDfSjp1tDxDYQ&amp\;source=gmail&amp\;ust=1643132844697000&amp\;usg=AOvVaw2vHbV4kMofJeOKwBO8VR8n" href="https://act.alz.org/site/R?i=5b2dzVj-7kWt0El2aP62tdmbLQk_aQhQLg1pCtw11HDfSjp1tDxDYQ" style="color: rgb(17\, 85\, 204)\;" target="_blank">Click here for Support Groups List</a></em></span></p>\n\n<p style="font-family: Helvetica\, arial\, sans-serif\; font-size: 16px\;"><span style="color: rgb(34\, 34\, 34)\; font-family: arial\, helvetica\, sans-serif\;">We have groups that are specific to families at the Early Stage\, with loved ones in residential facilities\, children caring for parents\, wives of the person with the disease (coming soon will be a group for husbands!)\, LBGTQ+\, young adult caregivers\, grief and general caregiver support groups.</span></p>\n\n<p style="font-family: Helvetica\, arial\, sans-serif\; font-size: 16px\;"><span style="font-family: arial\, helvetica\, sans-serif\;"><span style="color: rgb(34\, 34\, 34)\;">Currently because of the Omicron variant\, our support groups are virtual\, once this passes (and it will pass!) those groups that are listed as in person will return to in-person.</span><br />\n<span style="color: rgb(34\, 34\, 34)\;">Caregiving is tough\, we are here to help. Please reach out with questions or concerns. My contact information is below or call our 24 hour helpline 800-272-3900.</span></span></p>\n\n<p style="font-family: Helvetica\, arial\, sans-serif\; font-size: 16px\;"><span style="color: rgb(34\, 34\, 34)\; font-family: arial\, helvetica\, sans-serif\;">Thank you\,</span></p>\n\n<p style="font-family: Helvetica\, arial\, sans-serif\; font-size: 16px\;"><span style="font-family: arial\, helvetica\, sans-serif\;"><span style="color: rgb(34\, 34\, 34)\;">Ron Eppes</span><br />\n<span style="color: rgb(34\, 34\, 34)\;">Program Director</span><br />\n<span style="color: rgb(34\, 34\, 34)\;">Alzheimer&#39\;s Association\, New Mexico Chapter</span><br />\n<span style="color: rgb(34\, 34\, 34)\;">505.404.9837</span><br />\n<span style="color: rgb(34\, 34\, 34)\;"><a href="mailto:rdeppes@alz.org" style="color: rgb(17\, 85\, 204)\;" target="_blank">rdeppes@alz.org</a></span></span></p>\n
LOCATION:Virtual
UID:e.744.3748
SEQUENCE:3
DTSTAMP:20260421T072021Z
URL:https://business.thegallupchamber.com/events/details/living-with-alzheimer-s-caregiver-seminar-3748
END:VEVENT

END:VCALENDAR
