BEGIN:VCALENDAR
VERSION:2.0
PRODID:-//ChamberMaster//Event Calendar 2.0//EN
METHOD:PUBLISH
X-PUBLISHED-TTL:P3D
REFRESH-INTERVAL:P3D
CALSCALE:GREGORIAN
BEGIN:VEVENT
DTSTART;VALUE=DATE:20211209
DTEND;VALUE=DATE:20211210
TRANSP:TRANSPARENT
X-MICROSOFT-CDO-ALLDAYEVENT:TRUE
SUMMARY:Living With Alzheimer's - Care Givers Virtual Seminar
DESCRIPTION:Living With Alzheimer's: Virtual Seminar for Caregivers
X-ALT-DESC;FMTTYPE=text/html:Living With Alzheimer&#39\;s: Virtual Seminar for Caregivers
LOCATION:Virtual - Register at nmprograms@alz.org or call 505-266-4473
UID:e.744.3735
SEQUENCE:3
DTSTAMP:20260421T054321Z
URL:https://business.thegallupchamber.com/events/details/living-with-alzheimer-s-care-givers-virtual-seminar-3735
END:VEVENT

END:VCALENDAR
