BEGIN:VCALENDAR
VERSION:2.0
PRODID:-//ChamberMaster//Event Calendar 2.0//EN
METHOD:PUBLISH
X-PUBLISHED-TTL:P3D
REFRESH-INTERVAL:P3D
CALSCALE:GREGORIAN
BEGIN:VEVENT
DTSTART:20260508T233000Z
DTEND:20260509T010000Z
X-MICROSOFT-CDO-ALLDAYEVENT:FALSE
SUMMARY:Kids & Teens Sign-Up Night
DESCRIPTION:(formerly Rio West Kids Fest Kick-Off Event)\n\n\n\nLooking for activities\, programs\, and opportunities for your kids and teens? We've got you covered!\n\nJoin us for Kids & Teens Sign-Up Night at Rio West Mall and discover everything our community has to offer all in one place!\n\n? Meet local organizations\n\n? Learn about sports\, clubs\, programs & more\n\n? Get signed up on the spot or gather info for later\n\nNo more missing sign-up deadlines or wondering what's available this is your chance to explore it all!\n\n**Also looking for organizations\, programs\, businesses\, camps and resources for kids & teens to set up a free booth.**
X-ALT-DESC;FMTTYPE=text/html:<p>(formerly Rio West Kids Fest Kick-Off Event)<br />\n<br />\nLooking for activities\, programs\, and opportunities for your kids and teens? We&rsquo\;ve got you covered!</p>\n\n<p>Join us for <strong>Kids &amp\; Teens Sign-Up Night</strong> at Rio West Mall and discover everything our community has to offer&mdash\;all in one place!</p>\n\n<p>? Meet local organizations<br />\n? Learn about sports\, clubs\, programs &amp\; more<br />\n? Get signed up on the spot or gather info for later</p>\n\n<p>No more missing sign-up deadlines or wondering what&rsquo\;s available&mdash\;this is your chance to explore it all!<br />\n**Also looking for organizations\, programs\, businesses\, camps and resources for kids &amp\; teens to set up a free booth.**</p>\n
LOCATION:Rio West Mall
UID:e.744.3908
SEQUENCE:3
DTSTAMP:20260424T192527Z
URL:https://business.thegallupchamber.com/events/details/kids-teens-sign-up-night-3908
END:VEVENT

END:VCALENDAR
