BEGIN:VCALENDAR
VERSION:2.0
PRODID:-//ChamberMaster//Event Calendar 2.0//EN
METHOD:PUBLISH
X-PUBLISHED-TTL:P3D
REFRESH-INTERVAL:P3D
CALSCALE:GREGORIAN
BEGIN:VEVENT
DTSTART:20260508T160000Z
DTEND:20260508T220000Z
X-MICROSOFT-CDO-ALLDAYEVENT:FALSE
SUMMARY:Gallup Film & Media Expo
DESCRIPTION:Join us for an exciting two-day event dedicated to empowering young filmmakers and media creators. The Gallup Film & Media Expo brings together students\, educators\, industry professionals\, and community members to celebrate storytelling\, innovation\, and artistic expression. Event Highlights include demonstration set\, film screenings\, panel discussions\, exhibition booths\, and the opportunity to interact with experts in the film industry. This event is an opportunity to learn\, connect\, and celebrate the powerful voices shaping the future of media. By attending\, you will have the opportunity to meet and network with businesses and individuals associated with the Film & Entertainment Industry. We hope to see you there!
X-ALT-DESC;FMTTYPE=text/html:<span style="color: rgb(13\, 15\, 17)\; font-family: Sora\, sans-serif\; font-size: 14px\; white-space: pre-wrap\;">Join us for an exciting two-day event dedicated to empowering young filmmakers and media creators. The Gallup Film &amp\; Media Expo brings together students\, educators\, industry professionals\, and community members to celebrate storytelling\, innovation\, and artistic expression. Event Highlights include demonstration set\, film screenings\, panel discussions\, exhibition booths\, and the opportunity to interact with experts in the film industry. This event is an opportunity to learn\, connect\, and celebrate the powerful voices shaping the future of media. By attending\, you will have the opportunity to meet and network with businesses and individuals associated with the Film &amp\; Entertainment Industry. We hope to see you there!</span>
LOCATION:Red Rock Park Convention Center 825 Outlaw Rd Church Rock\, NM 87311
UID:e.744.3910
SEQUENCE:3
DTSTAMP:20260424T202550Z
URL:https://business.thegallupchamber.com/events/details/gallup-film-media-expo-05-08-2026-3910
END:VEVENT

END:VCALENDAR
