BEGIN:VCALENDAR
VERSION:2.0
PRODID:-//ChamberMaster//Event Calendar 2.0//EN
METHOD:PUBLISH
X-PUBLISHED-TTL:P3D
REFRESH-INTERVAL:P3D
CALSCALE:GREGORIAN
BEGIN:VEVENT
DTSTART:20200213T210000Z
DTEND:20200214T200000Z
X-MICROSOFT-CDO-ALLDAYEVENT:FALSE
SUMMARY:Gallup Community Blood Drive\, hosted by Rehoboth McKinley Christian Health Care Services
DESCRIPTION:Community Blood Drive\n\nRMCHCS- 1901 Red Rock Gallup NM 87301\n\nFebruary 13th\, 2PM-7PM and February 14th\, 8AM -1PM\n\nContact Mary Ann 505-863-3098 or Eileen 505-879-5576
X-ALT-DESC;FMTTYPE=text/html:Community Blood Drive<br />\nRMCHCS- 1901 Red Rock Gallup NM 87301<br />\nFebruary 13th\, 2PM-7PM and February 14th\, 8AM -1PM<br />\nContact Mary Ann 505-863-3098 or Eileen 505-879-5576
LOCATION:
UID:e.744.2320
SEQUENCE:3
DTSTAMP:20260421T140853Z
URL:https://business.thegallupchamber.com/events/details/gallup-community-blood-drive-hosted-by-rehoboth-mckinley-christian-health-care-services-2320
END:VEVENT

END:VCALENDAR
