BEGIN:VCALENDAR
VERSION:2.0
PRODID:-//ChamberMaster//Event Calendar 2.0//EN
METHOD:PUBLISH
X-PUBLISHED-TTL:P3D
REFRESH-INTERVAL:P3D
CALSCALE:GREGORIAN
BEGIN:VEVENT
DTSTART:20190226T003000Z
DTEND:20190226T030000Z
X-MICROSOFT-CDO-ALLDAYEVENT:FALSE
SUMMARY:Gallup Chamber Trip to Greece Information Meeting
DESCRIPTION:Gallup Chamber Trip to Greece Information Meeting\n\nIf you are interested in taking a trip to Greece and would like more information\, you are more than welcome to attend this meeting.
X-ALT-DESC;FMTTYPE=text/html:Gallup Chamber Trip to Greece Information Meeting<br />\nIf you are interested in taking a trip to Greece and would like more information\, you are more than welcome to attend this meeting.&nbsp\;
LOCATION:Gallup McKinley County Chamber of Commerce 106 W. Highway 66 Gallup\, NM 87301
UID:e.744.2281
SEQUENCE:3
DTSTAMP:20260425T035223Z
URL:https://business.thegallupchamber.com/events/details/gallup-chamber-trip-to-greece-information-meeting-2281
END:VEVENT

END:VCALENDAR
