BEGIN:VCALENDAR
VERSION:2.0
PRODID:-//ChamberMaster//Event Calendar 2.0//EN
METHOD:PUBLISH
X-PUBLISHED-TTL:P3D
REFRESH-INTERVAL:P3D
CALSCALE:GREGORIAN
BEGIN:VEVENT
DTSTART:20220918T180000Z
DTEND:20220919T000000Z
X-MICROSOFT-CDO-ALLDAYEVENT:FALSE
SUMMARY:Gallup Chamber Corn Hole Tournament
DESCRIPTION:Gallup Chamber Corn Hole Tournament\n\n\n\nJoin us for a fun day of Corn Hole\, Music\, Food\, Beverages\, and fun for the whole family!\n\n\n\nThere will be prizes for 1st\, 2nd & 3rd Place Teams!\n\n\n\nRegistration Cost: $50 per Team of 2\n\nLAST DAY TO REGISTER: September 9th\n\n\n\nContact the Gallup Chamber to register your Team
X-ALT-DESC;FMTTYPE=text/html:<span style="font-family:verdana\;"><span style="color:#FF0000\;"><span style="font-size:22px\;">Gallup Chamber Corn Hole Tournament</span></span><br />\n<br />\n<span style="font-size:18px\;">Join us for a fun day of Corn Hole\, Music\, Food\, Beverages\, and fun for the whole family!<br />\n<br />\nThere will be prizes for 1st\, 2nd &amp\; 3rd Place Teams!</span></span><br />\n<br />\n<span style="font-family: verdana\; font-size: 18px\;">Registration Cost: $50 per Team of 2<br />\n<span style="color:#008000\;"><strong>LAST DAY TO REGISTER: September 9th</strong></span></span><br style="font-family: verdana\; font-size: 18px\;" />\n<br style="font-family: verdana\; font-size: 18px\;" />\n<span style="font-family: verdana\; font-size: 18px\;">Contact the Gallup Chamber to register your Team</span>
LOCATION:Gallup Sports Complex - Field 1
UID:e.744.3788
SEQUENCE:3
DTSTAMP:20260419T221116Z
URL:https://business.thegallupchamber.com/events/details/gallup-chamber-corn-hole-tournament-3788
END:VEVENT

END:VCALENDAR
