BEGIN:VCALENDAR
VERSION:2.0
PRODID:-//ChamberMaster//Event Calendar 2.0//EN
METHOD:PUBLISH
X-PUBLISHED-TTL:P3D
REFRESH-INTERVAL:P3D
CALSCALE:GREGORIAN
BEGIN:VEVENT
DTSTART;VALUE=DATE:20210918
DTEND;VALUE=DATE:20210919
TRANSP:TRANSPARENT
X-MICROSOFT-CDO-ALLDAYEVENT:TRUE
SUMMARY:Gallup Chamber and Leadership McKinley Business Expo
DESCRIPTION:Join us for the BUSINESS EXPO event. Come on Gallup McKinley County residents\, join us and let's show our newest neighbors our great community! Vendors welcome\, set up a booth to tell people about your business. There will be food trucks\, dance groups\, music\, karate demo\, car/motorcycle show\, business vendors\, and much more. Call the Gallup Chamber for more information and to register.
X-ALT-DESC;FMTTYPE=text/html:Join us for the BUSINESS EXPO event. Come on Gallup McKinley County residents\, join us and let&#39\;s show our newest neighbors our great community! Vendors welcome\, set up a booth to tell people about your business. There will be food trucks\, dance groups\, music\, karate demo\, car/motorcycle show\, business vendors\, and much more. Call the Gallup Chamber for more information and to register.
LOCATION:Downtown Courthouse Square
UID:e.744.3733
SEQUENCE:3
DTSTAMP:20260421T101333Z
URL:https://business.thegallupchamber.com/events/details/gallup-chamber-and-leadership-mckinley-business-expo-3733
END:VEVENT

END:VCALENDAR
