BEGIN:VCALENDAR
VERSION:2.0
PRODID:-//ChamberMaster//Event Calendar 2.0//EN
METHOD:PUBLISH
X-PUBLISHED-TTL:P3D
REFRESH-INTERVAL:P3D
CALSCALE:GREGORIAN
BEGIN:VEVENT
DTSTART;VALUE=DATE:20190309
DTEND;VALUE=DATE:20190310
TRANSP:TRANSPARENT
X-MICROSOFT-CDO-ALLDAYEVENT:TRUE
SUMMARY:Gallup ArtsCrawl
DESCRIPTION:Gallup ArtsCrawl:\n\nKids on the Block
X-ALT-DESC;FMTTYPE=text/html:<strong><span style="font-size:14px\;">Gallup ArtsCrawl:</span><br />\n<span style="font-size:24px\;">Kids on the Block</span></strong>
LOCATION:Downtown Gallup
UID:e.744.2283
SEQUENCE:3
DTSTAMP:20260422T073207Z
URL:https://business.thegallupchamber.com/events/details/gallup-artscrawl-2283
END:VEVENT

END:VCALENDAR
