BEGIN:VCALENDAR
VERSION:2.0
PRODID:-//ChamberMaster//Event Calendar 2.0//EN
METHOD:PUBLISH
X-PUBLISHED-TTL:P3D
REFRESH-INTERVAL:P3D
CALSCALE:GREGORIAN
BEGIN:VEVENT
DTSTART:20210925T150000Z
DTEND:20210925T220000Z
X-MICROSOFT-CDO-ALLDAYEVENT:FALSE
SUMMARY:Friends of Hubbell Native American Arts Auction
DESCRIPTION:Our Native American Art Auctions have become our biggest fundraisers events and they enable us to\, in part\, support our scholarships program\, support the park in its endeavors\, and to fund other special events.
X-ALT-DESC;FMTTYPE=text/html:Our Native American Art Auctions have become our biggest fundraisers events and they enable us to\, in part\, support our scholarships program\, support the park in its endeavors\, and to fund other special events.
LOCATION:Gallup Community Service Center\, 410 Bataan Veterans Way
UID:e.744.3730
SEQUENCE:3
DTSTAMP:20260421T101320Z
URL:https://business.thegallupchamber.com/events/details/friends-of-hubbell-native-american-arts-auction-3730
END:VEVENT

END:VCALENDAR
