BEGIN:VCALENDAR
VERSION:2.0
PRODID:-//ChamberMaster//Event Calendar 2.0//EN
METHOD:PUBLISH
X-PUBLISHED-TTL:P3D
REFRESH-INTERVAL:P3D
CALSCALE:GREGORIAN
BEGIN:VEVENT
DTSTART:20160312T020000Z
DTEND:20160312T030000Z
X-MICROSOFT-CDO-ALLDAYEVENT:FALSE
SUMMARY:Free Throw contest - Rio West Mall
DESCRIPTION:March madness Free throw Shoot Out 7 pm sharp
X-ALT-DESC;FMTTYPE=text/html:<span style="color: rgb(46\, 139\, 87)\; font-family: Arial\, Helvetica\, sans-serif\; font-size: 16px\; background-color: rgb(255\, 255\, 255)\;">March madness Free&nbsp\;throw Shoot Out 7 pm sharp</span>
LOCATION:Rio West Mall 1300 West I-40 Frontage Road | Gallup\, New Mexico 87301
UID:e.744.1713
SEQUENCE:3
DTSTAMP:20260421T170940Z
URL:https://business.thegallupchamber.com/events/details/free-throw-contest-rio-west-mall-03-11-2016-1713
END:VEVENT

END:VCALENDAR
