BEGIN:VCALENDAR
VERSION:2.0
PRODID:-//ChamberMaster//Event Calendar 2.0//EN
METHOD:PUBLISH
X-PUBLISHED-TTL:P3D
REFRESH-INTERVAL:P3D
CALSCALE:GREGORIAN
BEGIN:VEVENT
DTSTART;VALUE=DATE:20191025
DTEND;VALUE=DATE:20191028
TRANSP:TRANSPARENT
X-MICROSOFT-CDO-ALLDAYEVENT:TRUE
SUMMARY:FOUR CORNERS REGIONAL FOOTBALL CHAMPIONSHIPS
DESCRIPTION:The Tony Dorsett\, Touch Down Football League\, Inc. is proud to announce our Annual Four Corners Regional Football Championships in Gallup\, New Mexico\, last Friday of October. We anticipate another great field with 30-40 youth football teams ages 8-13 years old from all over the Southwest\; teams from Arizona\, Colorado\, Utah\, Idaho\, and of course New Mexico. It is a first-come (& paid) / first-served basis and space will be limited.
X-ALT-DESC;FMTTYPE=text/html:<span style="font-family:arial\;"><span style="font-size:14px\;"><strong><span style="border:none windowtext 1.0pt\;padding:0in\;">The Tony Dorsett\, Touch Down Football League\, Inc. is proud to announce our Annual Four Corners Regional Football Championships in Gallup\, New Mexico\, last Friday&nbsp\;of&nbsp\;October. We anticipate another great field with 30-40 youth football teams ages 8-13 years old from all over the Southwest\; teams from Arizona\, Colorado\, Utah\, Idaho\, and of course New Mexico. It is a first-come (&amp\; paid) / first-served basis and space will be limited.</span></strong></span></span><br />\n&nbsp\;
LOCATION:
UID:e.744.1700
SEQUENCE:3
DTSTAMP:20260421T200830Z
URL:https://business.thegallupchamber.com/events/details/four-corners-regional-football-championships-10-25-2019-1700
END:VEVENT

END:VCALENDAR
