BEGIN:VCALENDAR
VERSION:2.0
PRODID:-//ChamberMaster//Event Calendar 2.0//EN
METHOD:PUBLISH
X-PUBLISHED-TTL:P3D
REFRESH-INTERVAL:P3D
CALSCALE:GREGORIAN
BEGIN:VEVENT
DTSTART:20220820T160000Z
DTEND:20220820T220000Z
X-MICROSOFT-CDO-ALLDAYEVENT:FALSE
SUMMARY:Employ McKinley Job Fair & Workshops
DESCRIPTION:The Leadership McKinley Capstone Team\, B.I.G.\, is hosting: \n\n\n\nEmploy McKinley - Job Fair & Workshops\n\n\n\nWorkshops include: Resume Writing\, Cover Letter Writing & Interview Etiquette and will be held from 10:00AM - Noon\n\n\n\nThe Job Fair  will be held from Noon - 4:00PM\n\n\n\nIf your organization would like to set up a job recruitment booth\, please contact Marvina Pete at 505-215-8161 or marvina.pete@wafd.com
X-ALT-DESC;FMTTYPE=text/html:The Leadership McKinley Capstone Team\, B.I.G.\, is hosting:&nbsp\;<br />\n<br />\n<span style="color:#0000FF\;"><strong>Employ McKinley - Job Fair &amp\; Workshops</strong></span><br />\n<br />\nWorkshops include: Resume Writing\, Cover Letter Writing &amp\; Interview Etiquette and will be held from 10:00AM - Noon<br />\n<br />\nThe Job Fair&nbsp\;&nbsp\;will be held from Noon - 4:00PM<br />\n<br />\nIf your organization would like to set up a job recruitment booth\, please contact Marvina Pete at 505-215-8161 or marvina.pete@wafd.com
LOCATION:El Morro Theater & El Morro Event Center Gallup\, NM
UID:e.744.3778
SEQUENCE:3
DTSTAMP:20260420T231700Z
URL:https://business.thegallupchamber.com/events/details/employ-mckinley-job-fair-workshops-3778
END:VEVENT

END:VCALENDAR
