BEGIN:VCALENDAR
VERSION:2.0
PRODID:-//ChamberMaster//Event Calendar 2.0//EN
METHOD:PUBLISH
X-PUBLISHED-TTL:P3D
REFRESH-INTERVAL:P3D
CALSCALE:GREGORIAN
BEGIN:VEVENT
DTSTART;VALUE=DATE:20160514
DTEND;VALUE=DATE:20160515
TRANSP:TRANSPARENT
X-MICROSOFT-CDO-ALLDAYEVENT:TRUE
SUMMARY:Dawn 'til Dusk
DESCRIPTION:2016 Dawn 'til Dusk 12-Hour Mountain Bike Race! \n\n\n\nRegistration is capped at 600 racers and solos capped at 150\, so register early to guarantee your slot!\n\nCategories\n\n\n\nSolo: Female\, Male\, Male Masters (40+)*\n\nSingle Speed Solo: Female\, Male\, Male Masters (40+)\n\n***Cap of 150 riders in solo categories***\n\nDuo: Female\, Male\, Co-ed\, Single Speed\, Masters Open (40+)**\n\nTeams of 3 or 4: Female\, Male\, Co-ed\n\n***Categories are subject to change.***\n\n*To race Master's we are following USAC rules. So\, "A rider's racing age shall be his age on December 31 of the current year."\n\n**Duo Masters = both riders must be 40+ per USAC rules and can be in any gender or gear combo.\n\nNative art awarded to the top three in the above categories.\n\nLooking for a team? Need a teammate?\n\nIf your team needs more members or if you need a team\, Contact Us. Be sure to select the "I need a team/teammate!" subject.
X-ALT-DESC;FMTTYPE=text/html:<p style="margin: 0px 0px 1em\; padding: 0px\; color: rgb(0\, 0\, 0)\; text-transform: none\; text-indent: 0px\; letter-spacing: normal\; word-spacing: 0px\; white-space: normal\; orphans: 2\; widows: 2\; font-size-adjust: none\; font-stretch: normal\; background-color: rgb(255\, 255\, 255)\; -webkit-text-size-adjust: auto\; -webkit-text-stroke-width: 0px\;"><b style="margin: 0px\; padding: 0px\;"><span style="color: rgb(0\, 0\, 0)\; text-transform: none\; text-indent: 0px\; letter-spacing: normal\; word-spacing: 0px\; float: none\; display: inline !important\; white-space: normal\; orphans: 2\; widows: 2\; font-size-adjust: none\; font-stretch: normal\; background-color: rgb(255\, 255\, 255)\; -webkit-text-size-adjust: auto\; -webkit-text-stroke-width: 0px\;">2016 Dawn &#39\;til Dusk 12-Hour Mountain Bike Race!<span _fck_bookmark="1" style="display: none\;">&nbsp\;</span></span><br />\n<br />\nRegistration is capped at 600 racers and solos capped at 150\, so register early to guarantee your slot!</b></p>\n\n<p style="margin: 0px 0px 1em\; padding: 0px\; color: rgb(0\, 0\, 0)\; text-transform: none\; text-indent: 0px\; letter-spacing: normal\; word-spacing: 0px\; white-space: normal\; orphans: 2\; widows: 2\; font-size-adjust: none\; font-stretch: normal\; background-color: rgb(255\, 255\, 255)\; -webkit-text-size-adjust: auto\; -webkit-text-stroke-width: 0px\;"><b style="margin: 0px\; padding: 0px\;"><font color="#bd1e2c" size="4" style="margin: 0px\; padding: 0px\;">Categories</font></b><br style="margin: 0px\; padding: 0px\;" />\n<br style="margin: 0px\; padding: 0px\;" />\nSolo: Female\, Male\, Male Masters (40+)<font color="#bd1e2c" size="2" style="margin: 0px\; padding: 0px\;">*</font><br style="margin: 0px\; padding: 0px\;" />\nSingle Speed Solo: Female\, Male\, Male Masters (40+)<br style="margin: 0px\; padding: 0px\;" />\n***Cap of 150 riders in solo categories***</p>\n\n<p style="margin: 0px 0px 1em\; padding: 0px\; color: rgb(0\, 0\, 0)\; text-transform: none\; text-indent: 0px\; letter-spacing: normal\; word-spacing: 0px\; white-space: normal\; orphans: 2\; widows: 2\; font-size-adjust: none\; font-stretch: normal\; background-color: rgb(255\, 255\, 255)\; -webkit-text-size-adjust: auto\; -webkit-text-stroke-width: 0px\;">Duo: Female\, Male\, Co-ed\, Single Speed\, Masters Open (40+)<font color="#bd1e2c" size="2" style="margin: 0px\; padding: 0px\;">**</font></p>\n\n<p style="margin: 0px 0px 1em\; padding: 0px\; color: rgb(0\, 0\, 0)\; text-transform: none\; text-indent: 0px\; letter-spacing: normal\; word-spacing: 0px\; white-space: normal\; orphans: 2\; widows: 2\; font-size-adjust: none\; font-stretch: normal\; background-color: rgb(255\, 255\, 255)\; -webkit-text-size-adjust: auto\; -webkit-text-stroke-width: 0px\;">Teams of 3 or 4: Female\, Male\, Co-ed<br style="margin: 0px\; padding: 0px\;" />\n***Categories are subject to change.***</p>\n\n<p style="margin: 0px 0px 1em\; padding: 0px\; color: rgb(0\, 0\, 0)\; text-transform: none\; text-indent: 0px\; letter-spacing: normal\; word-spacing: 0px\; white-space: normal\; orphans: 2\; widows: 2\; font-size-adjust: none\; font-stretch: normal\; background-color: rgb(255\, 255\, 255)\; -webkit-text-size-adjust: auto\; -webkit-text-stroke-width: 0px\;"><font color="#bd1e2c" size="2" style="margin: 0px\; padding: 0px\;">*</font>To race Master&#39\;s we are following USAC rules. So\, &quot\;A rider&#39\;s racing age shall be his age on December 31 of the current year.&quot\;<br style="margin: 0px\; padding: 0px\;" />\n<font color="#bd1e2c" size="2" style="margin: 0px\; padding: 0px\;">**</font>Duo Masters = both riders<span class="Apple-converted-space"> </span><u style="margin: 0px\; padding: 0px\;">must</u><span class="Apple-converted-space"> </span>be 40+ per USAC rules and can be in any gender or gear combo.</p>\n\n<p style="margin: 0px 0px 1em\; padding: 0px\; color: rgb(0\, 0\, 0)\; text-transform: none\; text-indent: 0px\; letter-spacing: normal\; word-spacing: 0px\; white-space: normal\; orphans: 2\; widows: 2\; font-size-adjust: none\; font-stretch: normal\; background-color: rgb(255\, 255\, 255)\; -webkit-text-size-adjust: auto\; -webkit-text-stroke-width: 0px\;">Native art awarded to the top three in the above categories.</p>\n\n<p style="margin: 0px 0px 1em\; padding: 0px\; color: rgb(0\, 0\, 0)\; text-transform: none\; text-indent: 0px\; letter-spacing: normal\; word-spacing: 0px\; white-space: normal\; orphans: 2\; widows: 2\; font-size-adjust: none\; font-stretch: normal\; background-color: rgb(255\, 255\, 255)\; -webkit-text-size-adjust: auto\; -webkit-text-stroke-width: 0px\;"><i style="margin: 0px\; padding: 0px\;">Looking for a team? Need a teammate?</i><br style="margin: 0px\; padding: 0px\;" />\nIf your team needs more members or if you need a team\,<span class="Apple-converted-space"> </span><a href="http://www.ziarides.com/?q=contact" style="margin: 0px\; padding: 0px\; color: rgb(189\, 30\, 44)\; text-decoration: none\;">Contact Us</a>. Be sure to select the &quot\;I need a team/teammate!&quot\; subject.<span _fck_bookmark="1" style="display: none\;"> </span></p>\n\n<p style="margin: 0px 0px 1em\; padding: 0px\; color: rgb(0\, 0\, 0)\; text-transform: none\; text-indent: 0px\; letter-spacing: normal\; word-spacing: 0px\; white-space: normal\; orphans: 2\; widows: 2\; font-size-adjust: none\; font-stretch: normal\; background-color: rgb(255\, 255\, 255)\; -webkit-text-size-adjust: auto\; -webkit-text-stroke-width: 0px\;"><br />\n<span _fck_bookmark="1" style="display: none\;">&nbsp\;</span></p>\n
LOCATION:On the lovely High Desert Trail System in Gallup\, NM
UID:e.744.1666
SEQUENCE:3
DTSTAMP:20260421T140607Z
URL:https://business.thegallupchamber.com/events/details/dawn-til-dusk-05-14-2016-1666
END:VEVENT

END:VCALENDAR
