BEGIN:VCALENDAR
VERSION:2.0
PRODID:-//ChamberMaster//Event Calendar 2.0//EN
METHOD:PUBLISH
X-PUBLISHED-TTL:P3D
REFRESH-INTERVAL:P3D
CALSCALE:GREGORIAN
BEGIN:VEVENT
DTSTART:20190810T010000Z
DTEND:20190810T040000Z
X-MICROSOFT-CDO-ALLDAYEVENT:FALSE
SUMMARY:Crownpoint Navajo Rug Auction
DESCRIPTION:Rug Auction \nRug Weavers will register and check in their rugs at 4:00 PM. Rug Displays will begin thereafter. The Auction will begin at 7:00 PM.
X-ALT-DESC;FMTTYPE=text/html:<div>\n<h2 style="margin: 0px\; padding: 0px 0px 4px\; font-size: 13px\; color: rgb(219\, 215\, 209)\; font-family: verdana\, arial\, sans-serif\;"><span style="font-family:tahoma\;"><span style="font-size:14px\;"><span style="color:#000000\;">Rug Auction&nbsp\;</span></span></span></h2>\n<span style="font-family:tahoma\;"><span style="font-size:14px\;"><span style="color:#000000\;"><span style="background-color: rgb(255\, 255\, 255)\;">Rug Weavers will register and check in their rugs at 4:00 PM. Rug Displays will begin thereafter. The Auction will begin at 7:00 PM.</span> </span></span></span></div>\n
LOCATION:Take Interstate 40 to Exit 53 at Thoreau. Turn directly onto Route 371 North. Stay on 371 North for about 25 miles\, then take a left turn at the sign for Crownpoint. Turn right at the second four-way stop. The New Crownpoint Elementary School is on the right-hand side of the road\, and the auction is held in the school gymnasium. Their is no lodging in Corwnpoint.
UID:e.744.1397
SEQUENCE:3
DTSTAMP:20260421T230529Z
URL:https://business.thegallupchamber.com/events/details/crownpoint-navajo-rug-auction-08-09-2019-1397
END:VEVENT

END:VCALENDAR
