BEGIN:VCALENDAR
VERSION:2.0
PRODID:-//ChamberMaster//Event Calendar 2.0//EN
METHOD:PUBLISH
X-PUBLISHED-TTL:P3D
REFRESH-INTERVAL:P3D
CALSCALE:GREGORIAN
BEGIN:VEVENT
DTSTART:20180930T000000Z
DTEND:20180930T050000Z
X-MICROSOFT-CDO-ALLDAYEVENT:FALSE
SUMMARY:Charity Invitational 22 Gala
DESCRIPTION:Get your tickets now for the 22nd Annual Charity Gala -- Fun Fun FUNdraiser! Your MCs will be none other than Sammy C and Emerald Tanner. Live Jazz artist\, Delbert Anderson\, will be performing. Circus entertainment will be provided by Wise Fools Circus Performers. A delicious dinner will be catered by Chef Bob Witty\, member of the American Academy of Chefs\, and his students from Navajo Technical University. After dinner dance music will be provided by DJ Kyle Tom. Live auction\, entertainment and dancing--all to benefit the Western Health Foundation goal to renovate and refurbish the RMCH patient rooms. A great evening and a very worthy cause.
X-ALT-DESC;FMTTYPE=text/html:Get your tickets now for the 22nd Annual Charity Gala -- Fun Fun FUNdraiser! Your MCs will be none other than Sammy C and Emerald Tanner. Live Jazz artist\, Delbert Anderson\, will be performing. Circus entertainment will be provided by Wise Fools Circus Performers. A delicious dinner will be catered by Chef Bob Witty\, member of the American Academy of Chefs\, and his students from Navajo Technical University. After dinner dance music will be provided by DJ Kyle Tom. Live auction\, entertainment and dancing--all to benefit the Western Health Foundation goal to renovate and refurbish the RMCH patient rooms. A great evening and a very worthy cause.
LOCATION:Red Rock Park\, Church Rock NM
UID:e.744.2268
SEQUENCE:3
DTSTAMP:20260425T102124Z
URL:https://business.thegallupchamber.com/events/details/charity-invitational-22-gala-2268
END:VEVENT

END:VCALENDAR
