BEGIN:VCALENDAR
VERSION:2.0
PRODID:-//ChamberMaster//Event Calendar 2.0//EN
METHOD:PUBLISH
X-PUBLISHED-TTL:P3D
REFRESH-INTERVAL:P3D
CALSCALE:GREGORIAN
BEGIN:VEVENT
DTSTART:20160216T170000Z
DTEND:20160216T220000Z
X-MICROSOFT-CDO-ALLDAYEVENT:FALSE
SUMMARY:Career Fair- All Trades
DESCRIPTION:All trades fair.
X-ALT-DESC;FMTTYPE=text/html:All trades fair.
LOCATION:UNM- Gallup Branch GH Commons Area
UID:e.744.1710
SEQUENCE:3
DTSTAMP:20260424T171040Z
URL:https://business.thegallupchamber.com/events/details/career-fair-all-trades-02-16-2016-1710
END:VEVENT

END:VCALENDAR
