BEGIN:VCALENDAR
VERSION:2.0
PRODID:-//ChamberMaster//Event Calendar 2.0//EN
METHOD:PUBLISH
X-PUBLISHED-TTL:P3D
REFRESH-INTERVAL:P3D
CALSCALE:GREGORIAN
BEGIN:VEVENT
DTSTART:20170809T000000Z
DTEND:20170809T030000Z
X-MICROSOFT-CDO-ALLDAYEVENT:FALSE
SUMMARY:Best in Show Night
DESCRIPTION:For the first time ever\, we're gathering the award-winning works from the Gallup Inter Tribal Indian Ceremonial's Exhibit Hall in one place\, for one night only. See the "Best in" category winners\, Best of Show winner\, and special award winners exhibited together. Get a glimpse into Ceremonial's celebrated history with a display of winners from past years. Also catch artist demos\, enjoy live jazz\, and treat yourself to light refreshments and a cash bar.
X-ALT-DESC;FMTTYPE=text/html:<span style="color:rgb(75\, 79\, 86)\; font-family:san francisco\,-apple-system\,blinkmacsystemfont\,.sfnstext-regular\,sans-serif\; font-size:14px">For the first time ever\, we&#39\;re gathering the award-winning works from the&nbsp\;</span><a href="https://www.facebook.com/GallupInterTribalIndianCeremonial/" style="color: rgb(54\, 88\, 153)\; cursor: pointer\; text-decoration: none\; font-family: 'San Francisco'\, -apple-system\, BlinkMacSystemFont\, '.SFNSText-Regular'\, sans-serif\; font-size: 14px\; letter-spacing: -0.23999999463558197px\;">Gallup Inter Tribal Indian Ceremonial</a><span style="color:rgb(75\, 79\, 86)\; font-family:san francisco\,-apple-system\,blinkmacsystemfont\,.sfnstext-regular\,sans-serif\; font-size:14px">&#39\;s Exhibit Hall in one place\, for one night only. See the &quot\;Best in&quot\; category winners\, Best of Show winner\, and special award winners exhibited together. Get a glimpse into Ceremonial&#39\;s celebrated history with a display of winners from past years. Also catch artist demos\, enjoy live jazz\, and treat yourself to light refreshments and a cash bar.</span>
LOCATION:ART123 Gallery in downtown Gallup
UID:e.744.2229
SEQUENCE:3
DTSTAMP:20260423T134529Z
URL:https://business.thegallupchamber.com/events/details/best-in-show-night-2229
END:VEVENT

END:VCALENDAR
