BEGIN:VCALENDAR
VERSION:2.0
PRODID:-//ChamberMaster//Event Calendar 2.0//EN
METHOD:PUBLISH
X-PUBLISHED-TTL:P3D
REFRESH-INTERVAL:P3D
CALSCALE:GREGORIAN
BEGIN:VEVENT
DTSTART:20171015T010000Z
DTEND:20171015T030000Z
X-MICROSOFT-CDO-ALLDAYEVENT:FALSE
SUMMARY:ArtsCrawl: Whodunnit?
DESCRIPTION:Downtown is cloaked in mystery this month\, and ArtsCrawl needs your help to crack the case. Hunt for clues hidden among downtown businesses. Solve the puzzle and win a prize!  Then\, see how the professionals do it hear from mystery authors\, police detectives and psychics.
X-ALT-DESC;FMTTYPE=text/html:Downtown is cloaked in mystery this month\, and ArtsCrawl needs your help to crack the case. Hunt for clues hidden among downtown businesses. Solve the puzzle and win a prize! &nbsp\;Then\, see how the professionals do it&mdash\;hear from mystery authors\, police detectives and psychics.&nbsp\;
LOCATION:Downtown Gallup
UID:e.744.1754
SEQUENCE:3
DTSTAMP:20260423T105857Z
URL:https://business.thegallupchamber.com/events/details/artscrawl-whodunnit-1754
END:VEVENT

END:VCALENDAR
