BEGIN:VCALENDAR
VERSION:2.0
PRODID:-//ChamberMaster//Event Calendar 2.0//EN
METHOD:PUBLISH
X-PUBLISHED-TTL:P3D
REFRESH-INTERVAL:P3D
CALSCALE:GREGORIAN
BEGIN:VEVENT
DTSTART:20170611T010000Z
DTEND:20170611T030000Z
X-MICROSOFT-CDO-ALLDAYEVENT:FALSE
SUMMARY:ArtsCrawl: Summer Solstice
DESCRIPTION:Happy Summer! Greet the season by joining Four Corners Yoga in a few rounds of sun salutations\, see how different cultures celebrate summer from Celtic bagpiping to Indigenous dances and enjoy live music and street eats in our summer block party.
X-ALT-DESC;FMTTYPE=text/html:Happy Summer! Greet the season by joining Four Corners Yoga in a few rounds of sun salutations\, see how different cultures celebrate summer&mdash\;from Celtic bagpiping to Indigenous dances&mdash\;and enjoy live music and street eats in our summer block party.&nbsp\;
LOCATION:Downtown Gallup
UID:e.744.1750
SEQUENCE:3
DTSTAMP:20260423T163358Z
URL:https://business.thegallupchamber.com/events/details/artscrawl-summer-solstice-1750
END:VEVENT

END:VCALENDAR
