BEGIN:VCALENDAR
VERSION:2.0
PRODID:-//ChamberMaster//Event Calendar 2.0//EN
METHOD:PUBLISH
X-PUBLISHED-TTL:P3D
REFRESH-INTERVAL:P3D
CALSCALE:GREGORIAN
BEGIN:VEVENT
DTSTART:20170312T020000Z
DTEND:20170312T040000Z
X-MICROSOFT-CDO-ALLDAYEVENT:FALSE
SUMMARY:ArtsCrawl: It's a Generational Thing
DESCRIPTION:Chaco Canyon is turning 110 years old! Mark the occasion with Symphony Chaco\, presented by the Gallup Community Concert Association\, and have some intergenerational fun with student art shows\, family-friendly hands-on workshops\, and glimpses into historic downtown Gallup.
X-ALT-DESC;FMTTYPE=text/html:Chaco Canyon is turning 110 years old! Mark the occasion with <em>Symphony Chaco</em>\, presented by the Gallup Community Concert Association\, and have some intergenerational fun with student art shows\, family-friendly hands-on workshops\, and glimpses into historic downtown Gallup.&nbsp\;
LOCATION:Downtown Gallup
UID:e.744.1747
SEQUENCE:3
DTSTAMP:20260423T212758Z
URL:https://business.thegallupchamber.com/events/details/artscrawl-it-s-a-generational-thing-1747
END:VEVENT

END:VCALENDAR
