BEGIN:VCALENDAR
VERSION:2.0
PRODID:-//ChamberMaster//Event Calendar 2.0//EN
METHOD:PUBLISH
X-PUBLISHED-TTL:P3D
REFRESH-INTERVAL:P3D
CALSCALE:GREGORIAN
BEGIN:VEVENT
DTSTART:20170813T010000Z
DTEND:20170813T030000Z
X-MICROSOFT-CDO-ALLDAYEVENT:FALSE
SUMMARY:ArtsCrawl: Get Your Kicks
DESCRIPTION:Get your kicks on Coal Avenue this month! Take a trip back in time to the heyday of Route 66 with a classic car and motorcycle show\, Old Hollywood red carpet and photo booth\, Rockabilly music and line dancing.
X-ALT-DESC;FMTTYPE=text/html:Get your kicks on Coal Avenue this month! Take a trip back in time to the heyday of Route 66 with a classic car and motorcycle show\, Old Hollywood red carpet and photo booth\, Rockabilly music and line dancing.&nbsp\;
LOCATION:Downtown Gallup
UID:e.744.1752
SEQUENCE:3
DTSTAMP:20260423T134419Z
URL:https://business.thegallupchamber.com/events/details/artscrawl-get-your-kicks-1752
END:VEVENT

END:VCALENDAR
