BEGIN:VCALENDAR
VERSION:2.0
PRODID:-//ChamberMaster//Event Calendar 2.0//EN
METHOD:PUBLISH
X-PUBLISHED-TTL:P3D
REFRESH-INTERVAL:P3D
CALSCALE:GREGORIAN
BEGIN:VEVENT
DTSTART:20170409T010000Z
DTEND:20170409T030000Z
X-MICROSOFT-CDO-ALLDAYEVENT:FALSE
SUMMARY:ArtsCrawl: Flower Power
DESCRIPTION:This month\, we're giving both peas as well as peace a chance. Get your hands dirty with gardening and flower arranging demos and recycled crafting workshops. Be one with your hippie half by getting your tie-dye on or let your inner beatnik shine in a poetry slam.
X-ALT-DESC;FMTTYPE=text/html:This month\, we&rsquo\;re giving both peas as well as peace a chance. Get your hands dirty with gardening and flower arranging demos and recycled crafting workshops. Be one with your hippie half by getting your tie-dye on or let your inner beatnik shine in a poetry slam.&nbsp\;
LOCATION:Downtown Gallup
UID:e.744.1748
SEQUENCE:3
DTSTAMP:20260423T195001Z
URL:https://business.thegallupchamber.com/events/details/artscrawl-flower-power-1748
END:VEVENT

END:VCALENDAR
