BEGIN:VCALENDAR
VERSION:2.0
PRODID:-//ChamberMaster//Event Calendar 2.0//EN
METHOD:PUBLISH
X-PUBLISHED-TTL:P3D
REFRESH-INTERVAL:P3D
CALSCALE:GREGORIAN
BEGIN:VEVENT
DTSTART:20171210T020000Z
DTEND:20171210T040000Z
X-MICROSOFT-CDO-ALLDAYEVENT:FALSE
SUMMARY:ArtsCrawl: Fired Up
DESCRIPTION:This ArtsCrawl\, we're turning up the heat. Chili lovers: get in the Christmas spirit and help choose who makes the best red or green. Feel the fire in your belly another way by following the lead of cheerleaders and marching in our Parade of Lights. At the end of the night\, cozy up to Santa's fireplace and make a stocking to take home.
X-ALT-DESC;FMTTYPE=text/html:This ArtsCrawl\, we&rsquo\;re turning up the heat. Chili lovers: get in the Christmas spirit and help choose who makes the best red or green. Feel the fire in your belly another way by following the lead of cheerleaders and marching in our Parade of Lights. At the end of the night\, cozy up to Santa&rsquo\;s fireplace and make a stocking to take home.&nbsp\;
LOCATION:Downtown Gallup
UID:e.744.1756
SEQUENCE:3
DTSTAMP:20260423T080712Z
URL:https://business.thegallupchamber.com/events/details/artscrawl-fired-up-1756
END:VEVENT

END:VCALENDAR
