BEGIN:VCALENDAR
VERSION:2.0
PRODID:-//ChamberMaster//Event Calendar 2.0//EN
METHOD:PUBLISH
X-PUBLISHED-TTL:P3D
REFRESH-INTERVAL:P3D
CALSCALE:GREGORIAN
BEGIN:VEVENT
DTSTART:20170910T010000Z
DTEND:20170910T030000Z
X-MICROSOFT-CDO-ALLDAYEVENT:FALSE
SUMMARY:ArtsCrawl: Fair and Square
DESCRIPTION:Y'all come on down ArtsCrawl in September for hayrides\, pie eating contests\, square dancing\, a street picnic and more county fair-inspired fun!
X-ALT-DESC;FMTTYPE=text/html:Y&rsquo\;all come on down ArtsCrawl in September for hayrides\, pie eating contests\, square dancing\, a street picnic and more county fair-inspired fun!&nbsp\;
LOCATION:Downtown Gallup
UID:e.744.1753
SEQUENCE:3
DTSTAMP:20260423T120742Z
URL:https://business.thegallupchamber.com/events/details/artscrawl-fair-and-square-1753
END:VEVENT

END:VCALENDAR
