BEGIN:VCALENDAR
VERSION:2.0
PRODID:-//ChamberMaster//Event Calendar 2.0//EN
METHOD:PUBLISH
X-PUBLISHED-TTL:P3D
REFRESH-INTERVAL:P3D
CALSCALE:GREGORIAN
BEGIN:VEVENT
DTSTART:20170514T010000Z
DTEND:20170514T030000Z
X-MICROSOFT-CDO-ALLDAYEVENT:FALSE
SUMMARY:ArtsCrawl: Comic Con
DESCRIPTION:Comic book collectors and anime fans unite! Strut your stuff as your favorite character and create a live action comic strip. Then\, turn it Japanese with a Yu-Gi-Oh! card match\, origami workshop and Japanese drumming performance.
X-ALT-DESC;FMTTYPE=text/html:Comic book collectors and anime fans unite! Strut your stuff as your favorite character and create a live action comic strip. Then\, turn it Japanese with a Yu-Gi-Oh! card match\, origami workshop and Japanese drumming performance.&nbsp\;
LOCATION:Downtown Gallup
UID:e.744.1749
SEQUENCE:3
DTSTAMP:20260423T181523Z
URL:https://business.thegallupchamber.com/events/details/artscrawl-comic-con-1749
END:VEVENT

END:VCALENDAR
