BEGIN:VCALENDAR
VERSION:2.0
PRODID:-//ChamberMaster//Event Calendar 2.0//EN
METHOD:PUBLISH
X-PUBLISHED-TTL:P3D
REFRESH-INTERVAL:P3D
CALSCALE:GREGORIAN
BEGIN:VEVENT
DTSTART:20170520T150000Z
DTEND:20170520T220000Z
X-MICROSOFT-CDO-ALLDAYEVENT:FALSE
SUMMARY:Adult Figure Drawing Workshop
DESCRIPTION:Curious about life drawing\, but not sure where to start?  Interested in joining in ART123's new figure drawing group\, but want some instruction first? This workshop is for you!
X-ALT-DESC;FMTTYPE=text/html:<span style="font-family:open sans\,sans-serif\; font-size:14px">Curious about life drawing\, but not sure where to start?&nbsp\; Interested in joining in ART123&#39\;s new figure drawing group</span><span style="font-family:open sans\,sans-serif\; font-size:14px"><span style="color:#000000">\, </span>but want some instruction first? This workshop&nbsp\;is for you!</span>
LOCATION:ART123 Gallery in downtown Gallup
UID:e.744.2065
SEQUENCE:3
DTSTAMP:20260423T183743Z
URL:https://business.thegallupchamber.com/events/details/adult-figure-drawing-workshop-2065
END:VEVENT

END:VCALENDAR
