BEGIN:VCALENDAR
VERSION:2.0
PRODID:-//ChamberMaster//Event Calendar 2.0//EN
METHOD:PUBLISH
X-PUBLISHED-TTL:P3D
REFRESH-INTERVAL:P3D
CALSCALE:GREGORIAN
BEGIN:VEVENT
DTSTART:20150911T000000Z
DTEND:20150911T020000Z
X-MICROSOFT-CDO-ALLDAYEVENT:FALSE
SUMMARY:36th Annual Run for Fun
DESCRIPTION:Sponsored by the Gallup Sunrise Kiwanis
X-ALT-DESC;FMTTYPE=text/html:Sponsored by the Gallup Sunrise Kiwanis
LOCATION:Sports Complex 925 Park Avenue Gallup\, NM
UID:e.744.1310
SEQUENCE:3
DTSTAMP:20260422T054551Z
URL:https://business.thegallupchamber.com/events/details/36th-annual-run-for-fun-09-10-2015-1310
END:VEVENT

END:VCALENDAR
