BEGIN:VCALENDAR
VERSION:2.0
PRODID:-//ChamberMaster//Event Calendar 2.0//EN
METHOD:PUBLISH
X-PUBLISHED-TTL:P3D
REFRESH-INTERVAL:P3D
CALSCALE:GREGORIAN
BEGIN:VEVENT
DTSTART;VALUE=DATE:20160618
DTEND;VALUE=DATE:20160619
TRANSP:TRANSPARENT
X-MICROSOFT-CDO-ALLDAYEVENT:TRUE
SUMMARY:24 Hours in the Enchanted Forest
DESCRIPTION:24-hour mountain bike race! 24 Hours in the Enchanted Forest provides everything that you want from a 24 Hour Race. We have an amazing course with epic singletrack winding through the meadows\, pines and aspens. Seriously\, this is a great place to ride. We have an amazing venue in the ponderosa pines with plenty of space to hang out with friends and family. And\, the event is a great party with vendors\, movies\, food\, kids activities\, and fun for everyone.\n\nThe event is a relay\, and you can be as fast or as laid back as you want to be. We won't judge. No matter what\, you will have a great time. There are options for solos\, duos\, teams of 4 or 5\, and a corporate category for teams of up to 10. So\, come join us for 24 Hours in the Enchanted Forest   an amazing weekend of camping\, riding\, and fun!
X-ALT-DESC;FMTTYPE=text/html:<p style="margin: 0px\; padding: 0px 0px 10px\; border: 0px\; outline: 0px\; font-size: 12px\; vertical-align: baseline\; line-height: 24px\; color: rgb(34\, 31\, 31)\; font-family: 'Droid Sans'\, Arial\, sans-serif\;">24-hour mountain bike race!&nbsp\;24 Hours in the Enchanted Forest provides everything that you want from a 24 Hour Race. We have an amazing course with epic singletrack winding through the meadows\, pines and aspens. Seriously\, this is a great place to ride. We have an amazing venue in the ponderosa pines with plenty of space to hang out with friends and family. And\, the event is a great party with vendors\, movies\, food\, kids activities\, and fun for everyone.</p>\n\n<p style="margin: 0px\; padding: 0px 0px 10px\; border: 0px\; outline: 0px\; font-size: 12px\; vertical-align: baseline\; line-height: 24px\; color: rgb(34\, 31\, 31)\; font-family: 'Droid Sans'\, Arial\, sans-serif\;">The event is a relay\, and you can be as fast or as laid back as you want to be. We won&rsquo\;t judge. No matter what\, you will have a great time. There are options for solos\, duos\, teams of 4 or 5\, and a corporate category for teams of up to 10. So\, come join us for 24 Hours in the Enchanted Forest &ndash\; an amazing weekend of camping\, riding\, and fun!</p>\n
LOCATION:
UID:e.744.1692
SEQUENCE:3
DTSTAMP:20260421T124648Z
URL:https://business.thegallupchamber.com/events/details/24-hours-in-the-enchanted-forest-06-18-2016-1692
END:VEVENT

END:VCALENDAR
