BEGIN:VCALENDAR
VERSION:2.0
PRODID:-//ChamberMaster//Event Calendar 2.0//EN
METHOD:PUBLISH
X-PUBLISHED-TTL:P3D
REFRESH-INTERVAL:P3D
CALSCALE:GREGORIAN
BEGIN:VEVENT
DTSTART:20260506T150000Z
DTEND:20260506T190000Z
X-MICROSOFT-CDO-ALLDAYEVENT:FALSE
SUMMARY:2026 UNM-Gallup Job Fair
DESCRIPTION:2026 UNM-GALLUP JOB FAIR\n\nConnect with top employers and career opportunities\n\nIndustry networking - Wide range of job openings\n\n\n\nPlease Join Us!\n\nKeynote Speaker\n\nDepartment of Workforce Solutions Cabinet Secretary\, Sarita Nair\n\n1:30PM in SSTC 200\n\nFor more information\, please contact:\n\nAmercia's Job Center New Mexico\n\nGallup Office\n\n(505) 863-8181
X-ALT-DESC;FMTTYPE=text/html:<span style="font-size:20px\;">2026 UNM-GALLUP JOB FAIR</span><br />\nConnect with top employers and career opportunities<br />\nIndustry networking - Wide range of job openings<br />\n<br />\nPlease Join Us!<br />\nKeynote Speaker<br />\nDepartment of Workforce Solutions Cabinet Secretary\, Sarita Nair<br />\n1:30PM in SSTC 200<br />\nFor more information\, please contact:<br />\nAmercia&rsquo\;s Job Center New Mexico<br />\nGallup Office<br />\n(505) 863-8181
LOCATION:UNM-Gallup Gurley Hall 705 Gurley Ave Gallup\, NM 87301
UID:e.744.3911
SEQUENCE:3
DTSTAMP:20260424T220220Z
URL:https://business.thegallupchamber.com/events/details/2026-unm-gallup-job-fair-3911
END:VEVENT

END:VCALENDAR
